BEGIN:VCALENDAR
VERSION:2.0
PRODID:-//Colorado Music Institute - ECPv6.15.17.1//NONSGML v1.0//EN
CALSCALE:GREGORIAN
METHOD:PUBLISH
X-WR-CALNAME:Colorado Music Institute
X-ORIGINAL-URL:https://coloradomusicinstitute.com
X-WR-CALDESC:Events for Colorado Music Institute
REFRESH-INTERVAL;VALUE=DURATION:PT1H
X-Robots-Tag:noindex
X-PUBLISHED-TTL:PT1H
BEGIN:VTIMEZONE
TZID:America/Denver
BEGIN:DAYLIGHT
TZOFFSETFROM:-0700
TZOFFSETTO:-0600
TZNAME:MDT
DTSTART:20220313T090000
END:DAYLIGHT
BEGIN:STANDARD
TZOFFSETFROM:-0600
TZOFFSETTO:-0700
TZNAME:MST
DTSTART:20221106T080000
END:STANDARD
BEGIN:DAYLIGHT
TZOFFSETFROM:-0700
TZOFFSETTO:-0600
TZNAME:MDT
DTSTART:20230312T090000
END:DAYLIGHT
BEGIN:STANDARD
TZOFFSETFROM:-0600
TZOFFSETTO:-0700
TZNAME:MST
DTSTART:20231105T080000
END:STANDARD
BEGIN:DAYLIGHT
TZOFFSETFROM:-0700
TZOFFSETTO:-0600
TZNAME:MDT
DTSTART:20240310T090000
END:DAYLIGHT
BEGIN:STANDARD
TZOFFSETFROM:-0600
TZOFFSETTO:-0700
TZNAME:MST
DTSTART:20241103T080000
END:STANDARD
END:VTIMEZONE
BEGIN:VEVENT
DTSTART;TZID=America/Denver:20230826T110000
DTEND;TZID=America/Denver:20230826T120000
DTSTAMP:20260424T085240
CREATED:20230627T195805Z
LAST-MODIFIED:20230627T195805Z
UID:4228-1693047600-1693051200@coloradomusicinstitute.com
SUMMARY:Percussion Ensemble
DESCRIPTION:Open to percussion students of any age or experience level. Led by Sean Herzig!\n\nIf you are a current student\, this class is included with your tuition. If you are not a current student\, the fee is $40. Please feel free to call 303-347-9447 if you have any questions or need help registering for the class.
URL:https://coloradomusicinstitute.com/event/percussion-ensemble-3/
LOCATION:Colorado Music Institute
ORGANIZER;CN="Colorado Music Institute":MAILTO:cmistaff@coloradomusicinstitute.com
END:VEVENT
BEGIN:VEVENT
DTSTART;TZID=America/Denver:20230825T150000
DTEND;TZID=America/Denver:20230825T160000
DTSTAMP:20260424T085240
CREATED:20230627T195721Z
LAST-MODIFIED:20230627T195721Z
UID:4226-1692975600-1692979200@coloradomusicinstitute.com
SUMMARY:Key Signature and Scale Fingering Review
DESCRIPTION:This class with Don Satterfield will review key signatures for both major and minor keys. Students will also review piano scale fingerings for a solid foundation in scale theory!\n\nIf you are a current student\, this class is included with your tuition. If you are not a current student\, the fee is $40. Please feel free to call 303-347-9447 if you have any questions or need help registering for the class.
URL:https://coloradomusicinstitute.com/event/key-signature-and-scale-fingering-review/
LOCATION:Colorado Music Institute
ORGANIZER;CN="Colorado Music Institute":MAILTO:cmistaff@coloradomusicinstitute.com
END:VEVENT
BEGIN:VEVENT
DTSTART;TZID=America/Denver:20230823T200000
DTEND;TZID=America/Denver:20230823T210000
DTSTAMP:20260424T085240
CREATED:20230627T195543Z
LAST-MODIFIED:20230816T004216Z
UID:4222-1692820800-1692824400@coloradomusicinstitute.com
SUMMARY:Movie Music for Strings
DESCRIPTION:Led by Neil Gillette – come play some movie tunes in a small chamber strings group! Open to violin\, viola\, cello\, and bass students.\n\nIf you are a current student\, this class is included with your tuition. If you are not a current student\, the fee is $40. Please feel free to call 303-347-9447 if you have any questions or need help registering for the class.
URL:https://coloradomusicinstitute.com/event/movie-music-for-strings-10/
LOCATION:Colorado Music Institute
ORGANIZER;CN="Colorado Music Institute":MAILTO:cmistaff@coloradomusicinstitute.com
END:VEVENT
BEGIN:VEVENT
DTSTART;TZID=America/Denver:20230819T150000
DTEND;TZID=America/Denver:20230819T160000
DTSTAMP:20260424T085240
CREATED:20230711T204434Z
LAST-MODIFIED:20230711T204434Z
UID:4260-1692457200-1692460800@coloradomusicinstitute.com
SUMMARY:Performance Class
DESCRIPTION:This class is open to all ages and all instruments! Come get some tips and tricks to improve your performance skills and get practice. Led by Kat Sheamansmith!\n\nIf you are a current student\, this class is included with your tuition. If you are not a current student\, the fee is $40. Please feel free to call 303-347-9447 if you have any questions or need help registering for the class.
URL:https://coloradomusicinstitute.com/event/performance-class-18/
LOCATION:Colorado Music Institute
ORGANIZER;CN="Colorado Music Institute":MAILTO:cmistaff@coloradomusicinstitute.com
END:VEVENT
BEGIN:VEVENT
DTSTART;TZID=America/Denver:20230819T120000
DTEND;TZID=America/Denver:20230819T130000
DTSTAMP:20260424T085240
CREATED:20230627T195610Z
LAST-MODIFIED:20230627T195610Z
UID:4224-1692446400-1692450000@coloradomusicinstitute.com
SUMMARY:Woodwind Technique
DESCRIPTION:Open to all woodwind students\, led by Harry Grainger! Bring your instrument!\n\nIf you are a current student\, this class is included with your tuition. If you are not a current student\, the fee is $40. Please feel free to call 303-347-9447 if you have any questions or need help registering for the class.
URL:https://coloradomusicinstitute.com/event/woodwind-technique-12/
LOCATION:Colorado Music Institute
ORGANIZER;CN="Colorado Music Institute":MAILTO:cmistaff@coloradomusicinstitute.com
END:VEVENT
BEGIN:VEVENT
DTSTART;TZID=America/Denver:20230816T150000
DTEND;TZID=America/Denver:20230816T160000
DTSTAMP:20260424T085240
CREATED:20230630T215634Z
LAST-MODIFIED:20230630T215634Z
UID:4244-1692198000-1692201600@coloradomusicinstitute.com
SUMMARY:Beginner Piano Class
DESCRIPTION:Open to all piano beginners\, led by Mary Worley!\n\nIf you are a current student\, this class is included with your tuition. If you are not a current student\, the fee is $40. Please feel free to call 303-347-9447 if you have any questions or need help registering for the class.
URL:https://coloradomusicinstitute.com/event/beginner-piano-class-7/
LOCATION:Colorado Music Institute
ORGANIZER;CN="Colorado Music Institute":MAILTO:cmistaff@coloradomusicinstitute.com
END:VEVENT
BEGIN:VEVENT
DTSTART;TZID=America/Denver:20230814T190000
DTEND;TZID=America/Denver:20230814T200000
DTSTAMP:20260424T085240
CREATED:20230717T170834Z
LAST-MODIFIED:20230718T204544Z
UID:4293-1692039600-1692043200@coloradomusicinstitute.com
SUMMARY:Songwriting Ages 8+
DESCRIPTION:Available to all students ages 8+\, led by Alex Creighton!\n\nIf you are a current student\, this class is included with your tuition. If you are not a current student\, the fee is $40. Please feel free to call 303-347-9447 if you have any questions or need help registering for the class.
URL:https://coloradomusicinstitute.com/event/jazz-re-harmonization/
LOCATION:Colorado Music Institute
ORGANIZER;CN="Colorado Music Institute":MAILTO:cmistaff@coloradomusicinstitute.com
END:VEVENT
BEGIN:VEVENT
DTSTART;TZID=America/Denver:20230813T130000
DTEND;TZID=America/Denver:20230813T150000
DTSTAMP:20260424T085240
CREATED:20230718T195801Z
LAST-MODIFIED:20230718T195801Z
UID:4318-1691931600-1691938800@coloradomusicinstitute.com
SUMMARY:Dot Painting Workshop
DESCRIPTION:Create abstract art using acrylic paint\, dot paining tools\, and dowels.  Come prepared to fully let go and allow your imagination to lead the way\, expressing your unique voice using dots. This workshop is open to ANYONE ages 10 and up! This is a great activity for kids\, adults\, and families! Art workshops are $35 per session. \nNadia has been immersed in a dedicated practice of art and jewelry making for 15 years. As a self-taught artist she has always worked with intuitive expression\, enjoying the creative freedom that it offers. This way of approaching art has given her permission to be more playful\, focusing on the process rather than the end result\, without judgement. Drawing from her personal creative journey\, she looks forward to guiding others with intuitive art projects.
URL:https://coloradomusicinstitute.com/event/dot-painting-workshop/
LOCATION:Colorado Music Institute
ORGANIZER;CN="Colorado Music Institute":MAILTO:cmistaff@coloradomusicinstitute.com
END:VEVENT
BEGIN:VEVENT
DTSTART;TZID=America/Denver:20230812T170000
DTEND;TZID=America/Denver:20230812T180000
DTSTAMP:20260424T085240
CREATED:20230627T195511Z
LAST-MODIFIED:20230714T203904Z
UID:4220-1691859600-1691863200@coloradomusicinstitute.com
SUMMARY:Performance Class
DESCRIPTION:Open to all students and all instruments! Led by Jacob Lee. Bring a piece prepared to perform!\n\nIf you are a current student\, this class is included with your tuition. If you are not a current student\, the fee is $40. Please feel free to call 303-347-9447 if you have any questions or need help registering for the class.
URL:https://coloradomusicinstitute.com/event/performance-class-guitar-and-piano-8/
LOCATION:Colorado Music Institute
ORGANIZER;CN="Colorado Music Institute":MAILTO:cmistaff@coloradomusicinstitute.com
END:VEVENT
BEGIN:VEVENT
DTSTART;TZID=America/Denver:20230812T123000
DTEND;TZID=America/Denver:20230812T133000
DTSTAMP:20260424T085240
CREATED:20230714T203835Z
LAST-MODIFIED:20230714T203835Z
UID:4268-1691843400-1691847000@coloradomusicinstitute.com
SUMMARY:Intermediate/Advanced Violin
DESCRIPTION:All intermediate and advanced violin players are welcome to attend! The class will be structured towards the students who sign up. Led by Meghan Stancliff!\n\nIf you are a current student\, this class is included with your tuition. If you are not a current student\, the fee is $40. Please feel free to call 303-347-9447 if you have any questions or need help registering for the class.
URL:https://coloradomusicinstitute.com/event/intermediate-advanced-violin-2/
LOCATION:Colorado Music Institute
ORGANIZER;CN="Colorado Music Institute":MAILTO:cmistaff@coloradomusicinstitute.com
END:VEVENT
BEGIN:VEVENT
DTSTART;TZID=America/Denver:20230810T140000
DTEND;TZID=America/Denver:20230810T150000
DTSTAMP:20260424T085240
CREATED:20230627T195440Z
LAST-MODIFIED:20230627T195440Z
UID:4218-1691676000-1691679600@coloradomusicinstitute.com
SUMMARY:Rock Guitar
DESCRIPTION:Open to all guitar students\, led by Edgar Grau! Come learn to play in rock style! Bring your guitar!\n\nIf you are a current student\, this class is included with your tuition. If you are not a current student\, the fee is $40. Please feel free to call 303-347-9447 if you have any questions or need help registering for the class.
URL:https://coloradomusicinstitute.com/event/rock-guitar/
LOCATION:Colorado Music Institute
ORGANIZER;CN="Colorado Music Institute":MAILTO:cmistaff@coloradomusicinstitute.com
END:VEVENT
BEGIN:VEVENT
DTSTART;TZID=America/Denver:20230807T090000
DTEND;TZID=America/Denver:20230807T100000
DTSTAMP:20260424T085240
CREATED:20230717T170748Z
LAST-MODIFIED:20230717T170748Z
UID:4291-1691398800-1691402400@coloradomusicinstitute.com
SUMMARY:DUET with Maria and Maggie!
DESCRIPTION:Open to all piano or vocal students. This class will teach collaboration: learning piano duets\, vocal duets\, or a vocal solo with piano accompaniment. Parents are invited back for the final 10 minutes where students will showcase what was learned in a mini-recital.\n\nIf you are a current student\, this class is included with your tuition. If you are not a current student\, the fee is $40. Please feel free to call 303-347-9447 if you have any questions or need help registering for the class.
URL:https://coloradomusicinstitute.com/event/duet-with-maria-and-maggie/
LOCATION:Colorado Music Institute
ORGANIZER;CN="Colorado Music Institute":MAILTO:cmistaff@coloradomusicinstitute.com
END:VEVENT
BEGIN:VEVENT
DTSTART;TZID=America/Denver:20230805T153000
DTEND;TZID=America/Denver:20230805T163000
DTSTAMP:20260424T085240
CREATED:20230725T205725Z
LAST-MODIFIED:20230725T205725Z
UID:4386-1691249400-1691253000@coloradomusicinstitute.com
SUMMARY:The ii-V-I Progression (Ages 12+)
DESCRIPTION:This class is for all intermediate and above pianists who want to learn more about a popular chord progression and how to use it! Led by Spencer A. Ages 12 and up.\n\nIf you are a current student\, this class is included with your tuition. If you are not a current student\, the fee is $40. Please feel free to call 303-347-9447 if you have any questions or need help registering for the class.
URL:https://coloradomusicinstitute.com/event/the-ii-v-i-progression-ages-12/
LOCATION:Colorado Music Institute
ORGANIZER;CN="Colorado Music Institute":MAILTO:cmistaff@coloradomusicinstitute.com
END:VEVENT
BEGIN:VEVENT
DTSTART;TZID=America/Denver:20230805T120000
DTEND;TZID=America/Denver:20230805T130000
DTSTAMP:20260424T085240
CREATED:20230717T170641Z
LAST-MODIFIED:20230717T170641Z
UID:4289-1691236800-1691240400@coloradomusicinstitute.com
SUMMARY:Performance Notes - Intermediate/Advanced
DESCRIPTION:Get help with a piece or song you’ll be performing! Michael Duran will give adjudication notes to help you improve your performance.\n\nIf you are a current student\, this class is included with your tuition. If you are not a current student\, the fee is $40. Please feel free to call 303-347-9447 if you have any questions or need help registering for the class.
URL:https://coloradomusicinstitute.com/event/performance-notes-intermediate-advanced/
LOCATION:Colorado Music Institute
ORGANIZER;CN="Colorado Music Institute":MAILTO:cmistaff@coloradomusicinstitute.com
END:VEVENT
BEGIN:VEVENT
DTSTART;TZID=America/Denver:20230805T100000
DTEND;TZID=America/Denver:20230805T110000
DTSTAMP:20260424T085240
CREATED:20230711T204607Z
LAST-MODIFIED:20230711T204607Z
UID:4262-1691229600-1691233200@coloradomusicinstitute.com
SUMMARY:Mental Health in Music
DESCRIPTION:Led by Tessa Jordan\, open to ALL students!\n\nIf you are a current student\, this class is included with your tuition. If you are not a current student\, the fee is $40. Please feel free to call 303-347-9447 if you have any questions or need help registering for the class.
URL:https://coloradomusicinstitute.com/event/mental-health-in-music-2/
LOCATION:Colorado Music Institute
ORGANIZER;CN="Colorado Music Institute":MAILTO:cmistaff@coloradomusicinstitute.com
END:VEVENT
BEGIN:VEVENT
DTSTART;TZID=America/Denver:20230801T183000
DTEND;TZID=America/Denver:20230801T193000
DTSTAMP:20260424T085240
CREATED:20230629T203706Z
LAST-MODIFIED:20230629T203706Z
UID:4230-1690914600-1690918200@coloradomusicinstitute.com
SUMMARY:CAGED Chord System for Guitar
DESCRIPTION:Open to beginner and intermediate guitar players ages 10 and up. Led by Jason Martinez!\n\nIf you are a current student\, this class is included with your tuition. If you are not a current student\, the fee is $40. Please feel free to call 303-347-9447 if you have any questions or need help registering for the class.
URL:https://coloradomusicinstitute.com/event/caged-chord-system-for-guitar/
LOCATION:Colorado Music Institute
ORGANIZER;CN="Colorado Music Institute":MAILTO:cmistaff@coloradomusicinstitute.com
END:VEVENT
BEGIN:VEVENT
DTSTART;TZID=America/Denver:20230729T150000
DTEND;TZID=America/Denver:20230729T160000
DTSTAMP:20260424T085240
CREATED:20230711T204343Z
LAST-MODIFIED:20230711T204343Z
UID:4258-1690642800-1690646400@coloradomusicinstitute.com
SUMMARY:Performance Class
DESCRIPTION:This class is open to all ages and all instruments! Come get some tips and tricks to improve your performance skills and get practice. Led by Kat Sheamansmith!\n\nIf you are a current student\, this class is included with your tuition. If you are not a current student\, the fee is $40. Please feel free to call 303-347-9447 if you have any questions or need help registering for the class.
URL:https://coloradomusicinstitute.com/event/performance-class-17/
LOCATION:Colorado Music Institute
ORGANIZER;CN="Colorado Music Institute":MAILTO:cmistaff@coloradomusicinstitute.com
END:VEVENT
BEGIN:VEVENT
DTSTART;TZID=America/Denver:20230729T123000
DTEND;TZID=America/Denver:20230729T133000
DTSTAMP:20260424T085240
CREATED:20230714T203724Z
LAST-MODIFIED:20230714T203724Z
UID:4265-1690633800-1690637400@coloradomusicinstitute.com
SUMMARY:Intermediate/Advanced Violin
DESCRIPTION:All intermediate and advanced violin players are welcome to attend! The class will be structured towards the students who sign up. Led by Meghan Stancliff!\n\nIf you are a current student\, this class is included with your tuition. If you are not a current student\, the fee is $40. Please feel free to call 303-347-9447 if you have any questions or need help registering for the class.
URL:https://coloradomusicinstitute.com/event/intermediate-advanced-violin/
LOCATION:Colorado Music Institute
ORGANIZER;CN="Colorado Music Institute":MAILTO:cmistaff@coloradomusicinstitute.com
END:VEVENT
BEGIN:VEVENT
DTSTART;TZID=America/Denver:20230728T150000
DTEND;TZID=America/Denver:20230728T160000
DTSTAMP:20260424T085240
CREATED:20230627T195313Z
LAST-MODIFIED:20230627T195313Z
UID:4214-1690556400-1690560000@coloradomusicinstitute.com
SUMMARY:Advanced Music Theory
DESCRIPTION:This class with Don Satterfield will review figured bass notation and chord inversions. Great for students with a good grasp of music theory looking to expand their knowledge!\n\nIf you are a current student\, this class is included with your tuition. If you are not a current student\, the fee is $40. Please feel free to call 303-347-9447 if you have any questions or need help registering for the class.
URL:https://coloradomusicinstitute.com/event/advanced-music-theory/
LOCATION:Colorado Music Institute
ORGANIZER;CN="Colorado Music Institute":MAILTO:cmistaff@coloradomusicinstitute.com
END:VEVENT
BEGIN:VEVENT
DTSTART;TZID=America/Denver:20230727T193000
DTEND;TZID=America/Denver:20230727T203000
DTSTAMP:20260424T085240
CREATED:20230725T205616Z
LAST-MODIFIED:20230725T205616Z
UID:4300-1690486200-1690489800@coloradomusicinstitute.com
SUMMARY:Open Chords and Rhythm Review for Guitar\, Mandolin\, and Banjo
DESCRIPTION:Students will go over open major and minor chords as well as basic syncopated rhythms. Open to ages 9+ with 6 months experience\, led by Ryan S!\n\nIf you are a current student\, this class is included with your tuition. If you are not a current student\, the fee is $40. Please feel free to call 303-347-9447 if you have any questions or need help registering for the class.
URL:https://coloradomusicinstitute.com/event/open-chords-and-rhythm-review-for-guitar-mandolin-and-banjo/
LOCATION:Colorado Music Institute
ORGANIZER;CN="Colorado Music Institute":MAILTO:cmistaff@coloradomusicinstitute.com
END:VEVENT
BEGIN:VEVENT
DTSTART;TZID=America/Denver:20230724T190000
DTEND;TZID=America/Denver:20230724T200000
DTSTAMP:20260424T085240
CREATED:20230629T203828Z
LAST-MODIFIED:20230714T203630Z
UID:4240-1690225200-1690228800@coloradomusicinstitute.com
SUMMARY:Bach Brandenburg 3 String Ensemble
DESCRIPTION:For the more advanced string student – Led by Neil Gillette!\n\nIf you are a current student\, this class is included with your tuition. If you are not a current student\, the fee is $40. Please feel free to call 303-347-9447 if you have any questions or need help registering for the class.
URL:https://coloradomusicinstitute.com/event/movie-music-for-strings-11/
LOCATION:Colorado Music Institute
ORGANIZER;CN="Colorado Music Institute":MAILTO:cmistaff@coloradomusicinstitute.com
END:VEVENT
BEGIN:VEVENT
DTSTART;TZID=America/Denver:20230722T130000
DTEND;TZID=America/Denver:20230722T150000
DTSTAMP:20260424T085240
CREATED:20230718T195606Z
LAST-MODIFIED:20230718T195606Z
UID:4315-1690030800-1690038000@coloradomusicinstitute.com
SUMMARY:Mandala Art Workshop
DESCRIPTION:A mandala is an abstract design that is usually circular in form beginning in the center and emanating out in an array of symbols\, shapes\, and forms. A relaxing afternoon of painting mandalas the intuitive way using layers of watercolor and colored pencil followed by an ink mandala drawing on top of this beautiful background. This workshop is open to ANYONE ages 10 and up! This is a great activity for kids\, adults\, and families! Art workshops are $35 per session. \nNadia has been immersed in a dedicated practice of art and jewelry making for 15 years. As a self-taught artist she has always worked with intuitive expression\, enjoying the creative freedom that it offers. This way of approaching art has given her permission to be more playful\, focusing on the process rather than the end result\, without judgement. Drawing from her personal creative journey\, she looks forward to guiding others with intuitive art projects.
URL:https://coloradomusicinstitute.com/event/mandala-art-workshop/
LOCATION:Colorado Music Institute
ORGANIZER;CN="Colorado Music Institute":MAILTO:cmistaff@coloradomusicinstitute.com
END:VEVENT
BEGIN:VEVENT
DTSTART;TZID=America/Denver:20230722T100000
DTEND;TZID=America/Denver:20230722T110000
DTSTAMP:20260424T085240
CREATED:20230629T204037Z
LAST-MODIFIED:20230629T204037Z
UID:4242-1690020000-1690023600@coloradomusicinstitute.com
SUMMARY:Musical Nationalism!
DESCRIPTION:Open to all students\, led by Tessa Jordan!\n\nIf you are a current student\, this class is included with your tuition. If you are not a current student\, the fee is $40. Please feel free to call 303-347-9447 if you have any questions or need help registering for the class.
URL:https://coloradomusicinstitute.com/event/musical-nationalism/
LOCATION:Colorado Music Institute
ORGANIZER;CN="Colorado Music Institute":MAILTO:cmistaff@coloradomusicinstitute.com
END:VEVENT
BEGIN:VEVENT
DTSTART;TZID=America/Denver:20230719T200000
DTEND;TZID=America/Denver:20230719T210000
DTSTAMP:20260424T085240
CREATED:20230627T195233Z
LAST-MODIFIED:20230627T204345Z
UID:4212-1689796800-1689800400@coloradomusicinstitute.com
SUMMARY:Movie Music for Strings
DESCRIPTION:Led by Neil Gillette – come play some movie tunes in a small chamber strings group! Open to violin\, viola\, cello\, and bass students.\n\nIf you are a current student\, this class is included with your tuition. If you are not a current student\, the fee is $40. Please feel free to call 303-347-9447 if you have any questions or need help registering for the class.
URL:https://coloradomusicinstitute.com/event/movie-music-for-strings-9/
LOCATION:Colorado Music Institute
ORGANIZER;CN="Colorado Music Institute":MAILTO:cmistaff@coloradomusicinstitute.com
END:VEVENT
BEGIN:VEVENT
DTSTART;TZID=America/Denver:20230719T150000
DTEND;TZID=America/Denver:20230719T160000
DTSTAMP:20260424T085240
CREATED:20230630T215719Z
LAST-MODIFIED:20230630T215719Z
UID:4246-1689778800-1689782400@coloradomusicinstitute.com
SUMMARY:Beginner Piano Class
DESCRIPTION:Open to all piano beginners\, led by Mary Worley!\n\nIf you are a current student\, this class is included with your tuition. If you are not a current student\, the fee is $40. Please feel free to call 303-347-9447 if you have any questions or need help registering for the class.
URL:https://coloradomusicinstitute.com/event/beginner-piano-class-8/
LOCATION:Colorado Music Institute
ORGANIZER;CN="Colorado Music Institute":MAILTO:cmistaff@coloradomusicinstitute.com
END:VEVENT
BEGIN:VEVENT
DTSTART;TZID=America/Denver:20230718T191500
DTEND;TZID=America/Denver:20230718T201500
DTSTAMP:20260424T085240
CREATED:20230627T195147Z
LAST-MODIFIED:20230627T195147Z
UID:4210-1689707700-1689711300@coloradomusicinstitute.com
SUMMARY:Rudiments and Hand Speed
DESCRIPTION:Improve your drumming technique with Bill Travis!\n\nIf you are a current student\, this class is included with your tuition. If you are not a current student\, the fee is $40. Please feel free to call 303-347-9447 if you have any questions or need help registering for the class.
URL:https://coloradomusicinstitute.com/event/rudiments-and-hand-speed-3/
LOCATION:Colorado Music Institute
ORGANIZER;CN="Colorado Music Institute":MAILTO:cmistaff@coloradomusicinstitute.com
END:VEVENT
BEGIN:VEVENT
DTSTART;TZID=America/Denver:20230715T120000
DTEND;TZID=America/Denver:20230715T130000
DTSTAMP:20260424T085240
CREATED:20230627T195027Z
LAST-MODIFIED:20230627T195038Z
UID:4207-1689422400-1689426000@coloradomusicinstitute.com
SUMMARY:Woodwind Technique
DESCRIPTION:Open to all woodwind students\, led by Harry Grainger! Bring your instrument!\n\nIf you are a current student\, this class is included with your tuition. If you are not a current student\, the fee is $40. Please feel free to call 303-347-9447 if you have any questions or need help registering for the class.
URL:https://coloradomusicinstitute.com/event/woodwind-technique-11/
LOCATION:Colorado Music Institute
ORGANIZER;CN="Colorado Music Institute":MAILTO:cmistaff@coloradomusicinstitute.com
END:VEVENT
BEGIN:VEVENT
DTSTART;TZID=America/Denver:20230715T110000
DTEND;TZID=America/Denver:20230715T120000
DTSTAMP:20260424T085240
CREATED:20230627T195355Z
LAST-MODIFIED:20230627T204404Z
UID:4216-1689418800-1689422400@coloradomusicinstitute.com
SUMMARY:Conga Drumming
DESCRIPTION:Anyone is welcome! All ages\, instruments\, and skill levels encouraged. Led by Sean Herzig!\n\nIf you are a current student\, this class is included with your tuition. If you are not a current student\, the fee is $40. Please feel free to call 303-347-9447 if you have any questions or need help registering for the class.
URL:https://coloradomusicinstitute.com/event/conga-drumming-2/
LOCATION:Colorado Music Institute
ORGANIZER;CN="Colorado Music Institute":MAILTO:cmistaff@coloradomusicinstitute.com
END:VEVENT
BEGIN:VEVENT
DTSTART;TZID=America/Denver:20230713T140000
DTEND;TZID=America/Denver:20230713T150000
DTSTAMP:20260424T085240
CREATED:20230627T194938Z
LAST-MODIFIED:20230627T194938Z
UID:4205-1689256800-1689260400@coloradomusicinstitute.com
SUMMARY:Guitar Technique
DESCRIPTION:Open to all guitar students\, led by Edgar Grau! Bring your guitar!\n\nIf you are a current student\, this class is included with your tuition. If you are not a current student\, the fee is $40. Please feel free to call 303-347-9447 if you have any questions or need help registering for the class.
URL:https://coloradomusicinstitute.com/event/guitar-technique/
LOCATION:Colorado Music Institute
ORGANIZER;CN="Colorado Music Institute":MAILTO:cmistaff@coloradomusicinstitute.com
END:VEVENT
BEGIN:VEVENT
DTSTART;TZID=America/Denver:20230713T130000
DTEND;TZID=America/Denver:20230713T140000
DTSTAMP:20260424T085240
CREATED:20230627T194852Z
LAST-MODIFIED:20230627T194852Z
UID:4203-1689253200-1689256800@coloradomusicinstitute.com
SUMMARY:Violin and Piano Class
DESCRIPTION:Open to all violin and piano students. This class will be tailored to the needs of the individuals who sign up. Led by Larisa Lewis!\n\nIf you are a current student\, this class is included with your tuition. If you are not a current student\, the fee is $40. Please feel free to call 303-347-9447 if you have any questions or need help registering for the class.
URL:https://coloradomusicinstitute.com/event/violin-and-piano-class-16/
LOCATION:Colorado Music Institute
ORGANIZER;CN="Colorado Music Institute":MAILTO:cmistaff@coloradomusicinstitute.com
END:VEVENT
END:VCALENDAR