BEGIN:VCALENDAR
VERSION:2.0
PRODID:-//Colorado Music Institute - ECPv6.15.17.1//NONSGML v1.0//EN
CALSCALE:GREGORIAN
METHOD:PUBLISH
X-WR-CALNAME:Colorado Music Institute
X-ORIGINAL-URL:https://coloradomusicinstitute.com
X-WR-CALDESC:Events for Colorado Music Institute
REFRESH-INTERVAL;VALUE=DURATION:PT1H
X-Robots-Tag:noindex
X-PUBLISHED-TTL:PT1H
BEGIN:VTIMEZONE
TZID:America/Denver
BEGIN:DAYLIGHT
TZOFFSETFROM:-0700
TZOFFSETTO:-0600
TZNAME:MDT
DTSTART:20220313T090000
END:DAYLIGHT
BEGIN:STANDARD
TZOFFSETFROM:-0600
TZOFFSETTO:-0700
TZNAME:MST
DTSTART:20221106T080000
END:STANDARD
BEGIN:DAYLIGHT
TZOFFSETFROM:-0700
TZOFFSETTO:-0600
TZNAME:MDT
DTSTART:20230312T090000
END:DAYLIGHT
BEGIN:STANDARD
TZOFFSETFROM:-0600
TZOFFSETTO:-0700
TZNAME:MST
DTSTART:20231105T080000
END:STANDARD
BEGIN:DAYLIGHT
TZOFFSETFROM:-0700
TZOFFSETTO:-0600
TZNAME:MDT
DTSTART:20240310T090000
END:DAYLIGHT
BEGIN:STANDARD
TZOFFSETFROM:-0600
TZOFFSETTO:-0700
TZNAME:MST
DTSTART:20241103T080000
END:STANDARD
END:VTIMEZONE
BEGIN:VEVENT
DTSTART;TZID=America/Denver:20230610T103000
DTEND;TZID=America/Denver:20230610T190000
DTSTAMP:20260424T145256
CREATED:20230309T215136Z
LAST-MODIFIED:20230606T213656Z
UID:4089-1686393000-1686423600@coloradomusicinstitute.com
SUMMARY:CMI Summer Recital
DESCRIPTION:Get excited for our Summer Recital! Recital dates are June 9\, 10\, and 11\, 2023. Please sign up for a time slot during the weekend. All signups will be through the link on SignUp Genius. Teachers names will be added to time slots as they know when they are able to attend. \nThe new building address 11234 E. Caley Ave\, Centennial\, CO 80112. \nRecital signups are closed. Please contact the front desk if you would like to make any changes to your recital time. \nContact the front desk or talk to your teacher if you have any questions! We are SO excited to celebrate our students!
URL:https://coloradomusicinstitute.com/event/cmi-summer-recital-2/
LOCATION:Colorado Music Institute
ORGANIZER;CN="Colorado Music Institute":MAILTO:cmistaff@coloradomusicinstitute.com
END:VEVENT
BEGIN:VEVENT
DTSTART;TZID=America/Denver:20230609T170000
DTEND;TZID=America/Denver:20230609T210000
DTSTAMP:20260424T145256
CREATED:20230309T215057Z
LAST-MODIFIED:20230606T213632Z
UID:4087-1686330000-1686344400@coloradomusicinstitute.com
SUMMARY:CMI Summer Recital
DESCRIPTION:Get excited for our Summer Recital! Recital dates are June 9\, 10\, and 11\, 2023. Please sign up for a time slot during the weekend. All signups will be through the link on SignUp Genius. Teachers names will be added to time slots as they know when they are able to attend. \nThe new building address 11234 E. Caley Ave\, Centennial\, CO 80112. \nRecital signups are closed. Please contact the front desk if you would like to make any changes to your recital time. \nContact the front desk or talk to your teacher if you have any questions! We are SO excited to celebrate our students!
URL:https://coloradomusicinstitute.com/event/cmi-summer-recital/
LOCATION:Colorado Music Institute
ORGANIZER;CN="Colorado Music Institute":MAILTO:cmistaff@coloradomusicinstitute.com
END:VEVENT
BEGIN:VEVENT
DTSTART;TZID=America/Denver:20230608T193000
DTEND;TZID=America/Denver:20230608T203000
DTSTAMP:20260424T145256
CREATED:20230414T223741Z
LAST-MODIFIED:20230414T223741Z
UID:4131-1686252600-1686256200@coloradomusicinstitute.com
SUMMARY:Music Theory and Music Reading
DESCRIPTION:All students are welcome to improve their theory skills and music reading skills with Katherine!\n\nIf you are a current student\, this class is included with your tuition. If you are not a current student\, the fee is $40. Please feel free to call 303-347-9447 if you have any questions or need help registering for the class.
URL:https://coloradomusicinstitute.com/event/music-theory-and-music-reading/
LOCATION:Colorado Music Institute
ORGANIZER;CN="Colorado Music Institute":MAILTO:cmistaff@coloradomusicinstitute.com
END:VEVENT
BEGIN:VEVENT
DTSTART;TZID=America/Denver:20230603T160000
DTEND;TZID=America/Denver:20230603T170000
DTSTAMP:20260424T145256
CREATED:20230419T180323Z
LAST-MODIFIED:20230419T180323Z
UID:4145-1685808000-1685811600@coloradomusicinstitute.com
SUMMARY:Piano Technique
DESCRIPTION:Open to all current piano students. Led by Edgar Grau!\n\nIf you are a current student\, this class is included with your tuition. If you are not a current student\, the fee is $40. Please feel free to call 303-347-9447 if you have any questions or need help registering for the class.
URL:https://coloradomusicinstitute.com/event/piano-technique/
LOCATION:Colorado Music Institute
ORGANIZER;CN="Colorado Music Institute":MAILTO:cmistaff@coloradomusicinstitute.com
END:VEVENT
BEGIN:VEVENT
DTSTART;TZID=America/Denver:20230603T113000
DTEND;TZID=America/Denver:20230603T123000
DTSTAMP:20260424T145256
CREATED:20230426T190719Z
LAST-MODIFIED:20230426T190719Z
UID:4160-1685791800-1685795400@coloradomusicinstitute.com
SUMMARY:Piano Class!
DESCRIPTION:Open to all piano students. The class will be tailored to students who sign up and their individual level. Led by Maria Giefer.\n\nIf you are a current student\, this class is included with your tuition. If you are not a current student\, the fee is $40. Please feel free to call 303-347-9447 if you have any questions or need help registering for the class.
URL:https://coloradomusicinstitute.com/event/piano-class-5/
LOCATION:Colorado Music Institute
ORGANIZER;CN="Colorado Music Institute":MAILTO:cmistaff@coloradomusicinstitute.com
END:VEVENT
BEGIN:VEVENT
DTSTART;TZID=America/Denver:20230530T191500
DTEND;TZID=America/Denver:20230530T201500
DTSTAMP:20260424T145256
CREATED:20230414T223615Z
LAST-MODIFIED:20230414T223615Z
UID:4129-1685474100-1685477700@coloradomusicinstitute.com
SUMMARY:Auxiliary Percussion
DESCRIPTION:Did you know there’s more to percussion than just drums? Led by Bill Travis!\n\nIf you are a current student\, this class is included with your tuition. If you are not a current student\, the fee is $40. Please feel free to call 303-347-9447 if you have any questions or need help registering for the class.
URL:https://coloradomusicinstitute.com/event/auxiliary-percussion-7/
LOCATION:Colorado Music Institute
ORGANIZER;CN="Colorado Music Institute":MAILTO:cmistaff@coloradomusicinstitute.com
END:VEVENT
BEGIN:VEVENT
DTSTART;VALUE=DATE:20230529
DTEND;VALUE=DATE:20230530
DTSTAMP:20260424T145256
CREATED:20230112T165128Z
LAST-MODIFIED:20230112T165128Z
UID:3965-1685318400-1685404799@coloradomusicinstitute.com
SUMMARY:CMI CLOSED
DESCRIPTION:CMI will be closed for lessons Monday\, May 29th. This closure is part of our 48 week calendar – no lessons during this time are rescheduled. \n 
URL:https://coloradomusicinstitute.com/event/cmi-closed-3/
LOCATION:Colorado Music Institute
ORGANIZER;CN="Colorado Music Institute":MAILTO:cmistaff@coloradomusicinstitute.com
END:VEVENT
BEGIN:VEVENT
DTSTART;TZID=America/Denver:20230528T170000
DTEND;TZID=America/Denver:20230528T180000
DTSTAMP:20260424T145256
CREATED:20230510T170934Z
LAST-MODIFIED:20230510T170934Z
UID:4185-1685293200-1685296800@coloradomusicinstitute.com
SUMMARY:Music Theory Games
DESCRIPTION:This class is open to students of all instruments who want to have FUN with music theory! Play games and increase your knowledge with Katie Gann!\n\nIf you are a current student\, this class is included with your tuition. If you are not a current student\, the fee is $40. Please feel free to call 303-347-9447 if you have any questions or need help registering for the class.
URL:https://coloradomusicinstitute.com/event/music-theory-games-3/
LOCATION:Colorado Music Institute
ORGANIZER;CN="Colorado Music Institute":MAILTO:cmistaff@coloradomusicinstitute.com
END:VEVENT
BEGIN:VEVENT
DTSTART;TZID=America/Denver:20230527T144500
DTEND;TZID=America/Denver:20230527T154500
DTSTAMP:20260424T145256
CREATED:20230426T190617Z
LAST-MODIFIED:20230426T190617Z
UID:4158-1685198700-1685202300@coloradomusicinstitute.com
SUMMARY:Beginner Piano Class
DESCRIPTION:Open to all piano beginners\, led by Mary Worley!\n\nIf you are a current student\, this class is included with your tuition. If you are not a current student\, the fee is $40. Please feel free to call 303-347-9447 if you have any questions or need help registering for the class.
URL:https://coloradomusicinstitute.com/event/beginner-piano-class-5/
LOCATION:Colorado Music Institute
ORGANIZER;CN="Colorado Music Institute":MAILTO:cmistaff@coloradomusicinstitute.com
END:VEVENT
BEGIN:VEVENT
DTSTART;TZID=America/Denver:20230527T113000
DTEND;TZID=America/Denver:20230527T123000
DTSTAMP:20260424T145256
CREATED:20230426T190506Z
LAST-MODIFIED:20230426T190506Z
UID:4156-1685187000-1685190600@coloradomusicinstitute.com
SUMMARY:Piano Class!
DESCRIPTION:Open to all piano students. The class will be tailored to students who sign up and their individual level. Led by Maria Giefer.\n\nIf you are a current student\, this class is included with your tuition. If you are not a current student\, the fee is $40. Please feel free to call 303-347-9447 if you have any questions or need help registering for the class.
URL:https://coloradomusicinstitute.com/event/piano-class-4/
LOCATION:Colorado Music Institute
ORGANIZER;CN="Colorado Music Institute":MAILTO:cmistaff@coloradomusicinstitute.com
END:VEVENT
BEGIN:VEVENT
DTSTART;TZID=America/Denver:20230526T150000
DTEND;TZID=America/Denver:20230526T160000
DTSTAMP:20260424T145256
CREATED:20230502T204212Z
LAST-MODIFIED:20230502T204212Z
UID:4173-1685113200-1685116800@coloradomusicinstitute.com
SUMMARY:College Prep Music Theory Review
DESCRIPTION:This class will cover material required to test out of one to two semesters of college level music theory. This includes key signature and chord review\, figured bass notation\, and fundamentals of ear training. Led by Don Satterfield.\n\nIf you are a current student\, this class is included with your tuition. If you are not a current student\, the fee is $40. Please feel free to call 303-347-9447 if you have any questions or need help registering for the class.
URL:https://coloradomusicinstitute.com/event/college-prep-music-theory-review-2/
LOCATION:Colorado Music Institute
ORGANIZER;CN="Colorado Music Institute":MAILTO:cmistaff@coloradomusicinstitute.com
END:VEVENT
BEGIN:VEVENT
DTSTART;TZID=America/Denver:20230524T193000
DTEND;TZID=America/Denver:20230524T203000
DTSTAMP:20260424T145256
CREATED:20230511T150012Z
LAST-MODIFIED:20230511T150012Z
UID:4187-1684956600-1684960200@coloradomusicinstitute.com
SUMMARY:Movie Music for Strings
DESCRIPTION:Led by Neil Gillette – come play some movie tunes in a small chamber strings group!\n\nIf you are a current student\, this class is included with your tuition. If you are not a current student\, the fee is $40. Please feel free to call 303-347-9447 if you have any questions or need help registering for the class.
URL:https://coloradomusicinstitute.com/event/movie-music-for-strings-7/
LOCATION:Colorado Music Institute
ORGANIZER;CN="Colorado Music Institute":MAILTO:cmistaff@coloradomusicinstitute.com
END:VEVENT
BEGIN:VEVENT
DTSTART;TZID=America/Denver:20230521T100000
DTEND;TZID=America/Denver:20230521T110000
DTSTAMP:20260424T145256
CREATED:20230427T161428Z
LAST-MODIFIED:20230427T161428Z
UID:4164-1684663200-1684666800@coloradomusicinstitute.com
SUMMARY:Mental Health in Music
DESCRIPTION:Open to ALL students\, led by Tessa Jordan!\n\nIf you are a current student\, this class is included with your tuition. If you are not a current student\, the fee is $40. Please feel free to call 303-347-9447 if you have any questions or need help registering for the class.
URL:https://coloradomusicinstitute.com/event/mental-health-in-music/
LOCATION:Colorado Music Institute
ORGANIZER;CN="Colorado Music Institute":MAILTO:cmistaff@coloradomusicinstitute.com
END:VEVENT
BEGIN:VEVENT
DTSTART;TZID=America/Denver:20230520T120000
DTEND;TZID=America/Denver:20230520T130000
DTSTAMP:20260424T145256
CREATED:20230414T222307Z
LAST-MODIFIED:20230414T222307Z
UID:4127-1684584000-1684587600@coloradomusicinstitute.com
SUMMARY:Woodwind Technique
DESCRIPTION:Open to all woodwind teachers\, led by Harry Grainger!\n\nIf you are a current student\, this class is included with your tuition. If you are not a current student\, the fee is $40. Please feel free to call 303-347-9447 if you have any questions or need help registering for the class.
URL:https://coloradomusicinstitute.com/event/woodwind-technique-9/
LOCATION:Colorado Music Institute
ORGANIZER;CN="Colorado Music Institute":MAILTO:cmistaff@coloradomusicinstitute.com
END:VEVENT
BEGIN:VEVENT
DTSTART;TZID=America/Denver:20230513T170000
DTEND;TZID=America/Denver:20230513T180000
DTSTAMP:20260424T145256
CREATED:20230414T220112Z
LAST-MODIFIED:20230414T220147Z
UID:4120-1683997200-1684000800@coloradomusicinstitute.com
SUMMARY:Performance Class - Guitar and Piano
DESCRIPTION:Led by Jacob Lee. Bring a piece prepared to perform!\n\nIf you are a current student\, this class is included with your tuition. If you are not a current student\, the fee is $40. Please feel free to call 303-347-9447 if you have any questions or need help registering for the class.
URL:https://coloradomusicinstitute.com/event/voice-technique-2/
LOCATION:Colorado Music Institute
ORGANIZER;CN="Colorado Music Institute":MAILTO:cmistaff@coloradomusicinstitute.com
END:VEVENT
BEGIN:VEVENT
DTSTART;TZID=America/Denver:20230513T160000
DTEND;TZID=America/Denver:20230513T170000
DTSTAMP:20260424T145256
CREATED:20230414T220216Z
LAST-MODIFIED:20230419T180026Z
UID:4123-1683993600-1683997200@coloradomusicinstitute.com
SUMMARY:Jazz Theory
DESCRIPTION:Open to all students who are interested in learning a little more about how jazz works! Led by Edgar Grau\n\nIf you are a current student\, this class is included with your tuition. If you are not a current student\, the fee is $40. Please feel free to call 303-347-9447 if you have any questions or need help registering for the class.
URL:https://coloradomusicinstitute.com/event/performance-class-guitar-and-piano-6/
LOCATION:Colorado Music Institute
ORGANIZER;CN="Colorado Music Institute":MAILTO:cmistaff@coloradomusicinstitute.com
END:VEVENT
BEGIN:VEVENT
DTSTART;TZID=America/Denver:20230513T140000
DTEND;TZID=America/Denver:20230513T150000
DTSTAMP:20260424T145256
CREATED:20230504T182134Z
LAST-MODIFIED:20230504T182134Z
UID:4181-1683986400-1683990000@coloradomusicinstitute.com
SUMMARY:Music Theory and Music Reading
DESCRIPTION:All students are welcome to improve their theory skills and music reading skills with Katherine!\n\nIf you are a current student\, this class is included with your tuition. If you are not a current student\, the fee is $40. Please feel free to call 303-347-9447 if you have any questions or need help registering for the class.
URL:https://coloradomusicinstitute.com/event/music-theory-and-music-reading-2/
LOCATION:Colorado Music Institute
ORGANIZER;CN="Colorado Music Institute":MAILTO:cmistaff@coloradomusicinstitute.com
END:VEVENT
BEGIN:VEVENT
DTSTART;TZID=America/Denver:20230430T170000
DTEND;TZID=America/Denver:20230430T210000
DTSTAMP:20260424T145256
CREATED:20221214T194929Z
LAST-MODIFIED:20221216T173050Z
UID:3932-1682874000-1682888400@coloradomusicinstitute.com
SUMMARY:Winter Rock Sessions Concert
DESCRIPTION:Check out our students’ performance at the Soiled Dove Underground for our winter Rock Sessions! Everyone is welcome to join and support our talented students. A link to purchase tickets will be available closer to the concert date. \nWant to be in one of the bands on-stage? Register by the end of December to be placed in a band\, or look out for our summer and fall session! \nContact the front desk or talk to your teacher if you have any questions. ROCK ON!!!
URL:https://coloradomusicinstitute.com/event/winter-rock-sessions-concert/
LOCATION:Soiled Dove Underground\, 7401 E 1st Ave\, Denver\, CO\, 80230
ORGANIZER;CN="Colorado Music Institute":MAILTO:cmistaff@coloradomusicinstitute.com
END:VEVENT
BEGIN:VEVENT
DTSTART;TZID=America/Denver:20230429T150000
DTEND;TZID=America/Denver:20230429T160000
DTSTAMP:20260424T145256
CREATED:20230414T215129Z
LAST-MODIFIED:20230426T190323Z
UID:4118-1682780400-1682784000@coloradomusicinstitute.com
SUMMARY:Voice Technique
DESCRIPTION:Love to sing? Want to sing? Come to our voice class led by Katherine!\n\nIf you are a current student\, this class is included with your tuition. If you are not a current student\, the fee is $40. Please feel free to call 303-347-9447 if you have any questions or need help registering for the class.
URL:https://coloradomusicinstitute.com/event/voice-technique/
LOCATION:Colorado Music Institute
ORGANIZER;CN="Colorado Music Institute":MAILTO:cmistaff@coloradomusicinstitute.com
END:VEVENT
BEGIN:VEVENT
DTSTART;TZID=America/Denver:20230428T190000
DTEND;TZID=America/Denver:20230428T200000
DTSTAMP:20260424T145256
CREATED:20230309T215454Z
LAST-MODIFIED:20230309T215454Z
UID:4093-1682708400-1682712000@coloradomusicinstitute.com
SUMMARY:Broadway Night - Performance!
DESCRIPTION:We’re hosting a Broadway Night! This performance opportunity is open to all current students for free! Students of any instrument are welcome to come and perform a Broadway tune. You can sing it\, you can play it\, you can do it with a friend! Please sign up through the Signup Genius link in the event. \nContact the front office with any questions at 303-347-9447. Get ready to have fun!
URL:https://coloradomusicinstitute.com/event/broadway-night-performance/
LOCATION:Colorado Music Institute
ORGANIZER;CN="Colorado Music Institute":MAILTO:cmistaff@coloradomusicinstitute.com
END:VEVENT
BEGIN:VEVENT
DTSTART;TZID=America/Denver:20230428T150000
DTEND;TZID=America/Denver:20230428T160000
DTSTAMP:20260424T145256
CREATED:20230303T203541Z
LAST-MODIFIED:20230303T203541Z
UID:4084-1682694000-1682697600@coloradomusicinstitute.com
SUMMARY:College Prep Music Theory Review
DESCRIPTION:This class will cover material required to test out of one to two semesters of college level music theory. This includes key signature and chord review\, figured bass notation\, and fundamentals of ear training. Led by Don Satterfield.\n\nIf you are a current student\, this class is included with your tuition. If you are not a current student\, the fee is $40. Please feel free to call 303-347-9447 if you have any questions or need help registering for the class.
URL:https://coloradomusicinstitute.com/event/college-prep-music-theory-review/
LOCATION:Colorado Music Institute
ORGANIZER;CN="Colorado Music Institute":MAILTO:cmistaff@coloradomusicinstitute.com
END:VEVENT
BEGIN:VEVENT
DTSTART;TZID=America/Denver:20230427T183000
DTEND;TZID=America/Denver:20230427T193000
DTSTAMP:20260424T145256
CREATED:20230417T162841Z
LAST-MODIFIED:20230417T162841Z
UID:4142-1682620200-1682623800@coloradomusicinstitute.com
SUMMARY:Beginner Piano
DESCRIPTION:All piano beginners are welcome to this class led by Katie Gann!\n\nIf you are a current student\, this class is included with your tuition. If you are not a current student\, the fee is $40. Please feel free to call 303-347-9447 if you have any questions or need help registering for the class.
URL:https://coloradomusicinstitute.com/event/beginner-piano-12/
LOCATION:Colorado Music Institute
ORGANIZER;CN="Colorado Music Institute":MAILTO:cmistaff@coloradomusicinstitute.com
END:VEVENT
BEGIN:VEVENT
DTSTART;TZID=America/Denver:20230427T173000
DTEND;TZID=America/Denver:20230427T183000
DTSTAMP:20260424T145256
CREATED:20230419T180652Z
LAST-MODIFIED:20230419T180652Z
UID:4147-1682616600-1682620200@coloradomusicinstitute.com
SUMMARY:3rd and 5th Position for Violin - Suzuki
DESCRIPTION:Advance your violin skills and get better at the higher positions! Led by Larisa Lewis\n\nIf you are a current student\, this class is included with your tuition. If you are not a current student\, the fee is $40. Please feel free to call 303-347-9447 if you have any questions or need help registering for the class.
URL:https://coloradomusicinstitute.com/event/3rd-and-5th-position-for-violin-suzuki/
LOCATION:Colorado Music Institute
ORGANIZER;CN="Colorado Music Institute":MAILTO:cmistaff@coloradomusicinstitute.com
END:VEVENT
BEGIN:VEVENT
DTSTART;TZID=America/Denver:20230425T191500
DTEND;TZID=America/Denver:20230425T201500
DTSTAMP:20260424T145256
CREATED:20230209T173741Z
LAST-MODIFIED:20230209T173741Z
UID:4041-1682450100-1682453700@coloradomusicinstitute.com
SUMMARY:Rudiments and Hand Speed
DESCRIPTION:Led by Bill Travis\, sure to be a ton of fun!\n\nIf you are a current student\, this class is included with your tuition. If you are not a current student\, the fee is $40. Please feel free to call 303-347-9447 if you have any questions or need help registering for the class.
URL:https://coloradomusicinstitute.com/event/rudiments-and-hand-speed-2/
LOCATION:Colorado Music Institute
ORGANIZER;CN="Colorado Music Institute":MAILTO:cmistaff@coloradomusicinstitute.com
END:VEVENT
BEGIN:VEVENT
DTSTART;TZID=America/Denver:20230422T144500
DTEND;TZID=America/Denver:20230422T154500
DTSTAMP:20260424T145256
CREATED:20230222T200047Z
LAST-MODIFIED:20230222T200336Z
UID:4068-1682174700-1682178300@coloradomusicinstitute.com
SUMMARY:Beginner Piano Class
DESCRIPTION:Open to all piano beginners and students interested in piano. Led by Mary Worley!\n\nIf you are a current student\, this class is included with your tuition. If you are not a current student\, the fee is $40. Please feel free to call 303-347-9447 if you have any questions or need help registering for the class.
URL:https://coloradomusicinstitute.com/event/beginner-piano-class-3/
LOCATION:Colorado Music Institute
ORGANIZER;CN="Colorado Music Institute":MAILTO:cmistaff@coloradomusicinstitute.com
END:VEVENT
BEGIN:VEVENT
DTSTART;TZID=America/Denver:20230422T113000
DTEND;TZID=America/Denver:20230422T123000
DTSTAMP:20260424T145256
CREATED:20230211T192527Z
LAST-MODIFIED:20230211T192527Z
UID:4051-1682163000-1682166600@coloradomusicinstitute.com
SUMMARY:Piano Class!
DESCRIPTION:Open to all piano students. This class will be tailored to students who sign up and their individual level. Led by Maria Giefer.\n\nIf you are a current student\, this class is included with your tuition. If you are not a current student\, the fee is $40. Please feel free to call 303-347-9447 if you have any questions or need help registering for the class.
URL:https://coloradomusicinstitute.com/event/piano-class-3/
LOCATION:Colorado Music Institute
ORGANIZER;CN="Colorado Music Institute":MAILTO:cmistaff@coloradomusicinstitute.com
END:VEVENT
BEGIN:VEVENT
DTSTART;TZID=America/Denver:20230420T170000
DTEND;TZID=America/Denver:20230420T180000
DTSTAMP:20260424T145256
CREATED:20230209T174102Z
LAST-MODIFIED:20230209T174102Z
UID:4049-1682010000-1682013600@coloradomusicinstitute.com
SUMMARY:Jazz Guitar - all ages
DESCRIPTION:Open to all guitarists who want to delve into some jazz! Led by Edgar Grau\n\nIf you are a current student\, this class is included with your tuition. If you are not a current student\, the fee is $40. Please feel free to call 303-347-9447 if you have any questions or need help registering for the class.
URL:https://coloradomusicinstitute.com/event/jazz-guitar-all-ages/
LOCATION:Colorado Music Institute
ORGANIZER;CN="Colorado Music Institute":MAILTO:cmistaff@coloradomusicinstitute.com
END:VEVENT
BEGIN:VEVENT
DTSTART;TZID=America/Denver:20230419T193000
DTEND;TZID=America/Denver:20230419T203000
DTSTAMP:20260424T145256
CREATED:20230209T174015Z
LAST-MODIFIED:20230209T174015Z
UID:4047-1681932600-1681936200@coloradomusicinstitute.com
SUMMARY:Movie Music for Strings
DESCRIPTION:Led by Neil Gillette – come play some movie tunes in a small chamber strings group!\n\nIf you are a current student\, this class is included with your tuition. If you are not a current student\, the fee is $40. Please feel free to call 303-347-9447 if you have any questions or need help registering for the class.
URL:https://coloradomusicinstitute.com/event/movie-music-for-strings-6/
LOCATION:Colorado Music Institute
ORGANIZER;CN="Colorado Music Institute":MAILTO:cmistaff@coloradomusicinstitute.com
END:VEVENT
BEGIN:VEVENT
DTSTART;TZID=America/Denver:20230415T150000
DTEND;TZID=America/Denver:20230415T160000
DTSTAMP:20260424T145256
CREATED:20230317T154031Z
LAST-MODIFIED:20230317T154031Z
UID:4099-1681570800-1681574400@coloradomusicinstitute.com
SUMMARY:Intro to Chord Theory\, Ages 11+
DESCRIPTION:Led by Spencer Adamson! Especially helpful for piano players\, but open to all students interested in furthering their music theory knowledge.\n\n\nIf you are a current student\, this class is included with your tuition. If you are not a current student\, the fee is $40. Please feel free to call 303-347-9447 if you have any questions or need help registering for the class.
URL:https://coloradomusicinstitute.com/event/intro-to-chord-theory-ages-11-2/
LOCATION:Colorado Music Institute
ORGANIZER;CN="Colorado Music Institute":MAILTO:cmistaff@coloradomusicinstitute.com
END:VEVENT
BEGIN:VEVENT
DTSTART;TZID=America/Denver:20230415T120000
DTEND;TZID=America/Denver:20230415T130000
DTSTAMP:20260424T145256
CREATED:20230209T173947Z
LAST-MODIFIED:20230209T173947Z
UID:4045-1681560000-1681563600@coloradomusicinstitute.com
SUMMARY:Woodwind Technique
DESCRIPTION:Led by Harry Grainger! Open to all current woodwind students.\n\nIf you are a current student\, this class is included with your tuition. If you are not a current student\, the fee is $40. Please feel free to call 303-347-9447 if you have any questions or need help registering for the class.
URL:https://coloradomusicinstitute.com/event/woodwind-technique-8/
LOCATION:Colorado Music Institute
ORGANIZER;CN="Colorado Music Institute":MAILTO:cmistaff@coloradomusicinstitute.com
END:VEVENT
END:VCALENDAR