BEGIN:VCALENDAR
VERSION:2.0
PRODID:-//Colorado Music Institute - ECPv6.15.17.1//NONSGML v1.0//EN
CALSCALE:GREGORIAN
METHOD:PUBLISH
X-ORIGINAL-URL:https://coloradomusicinstitute.com
X-WR-CALDESC:Events for Colorado Music Institute
REFRESH-INTERVAL;VALUE=DURATION:PT1H
X-Robots-Tag:noindex
X-PUBLISHED-TTL:PT1H
BEGIN:VTIMEZONE
TZID:America/Denver
BEGIN:DAYLIGHT
TZOFFSETFROM:-0700
TZOFFSETTO:-0600
TZNAME:MDT
DTSTART:20220313T090000
END:DAYLIGHT
BEGIN:STANDARD
TZOFFSETFROM:-0600
TZOFFSETTO:-0700
TZNAME:MST
DTSTART:20221106T080000
END:STANDARD
BEGIN:DAYLIGHT
TZOFFSETFROM:-0700
TZOFFSETTO:-0600
TZNAME:MDT
DTSTART:20230312T090000
END:DAYLIGHT
BEGIN:STANDARD
TZOFFSETFROM:-0600
TZOFFSETTO:-0700
TZNAME:MST
DTSTART:20231105T080000
END:STANDARD
BEGIN:DAYLIGHT
TZOFFSETFROM:-0700
TZOFFSETTO:-0600
TZNAME:MDT
DTSTART:20240310T090000
END:DAYLIGHT
BEGIN:STANDARD
TZOFFSETFROM:-0600
TZOFFSETTO:-0700
TZNAME:MST
DTSTART:20241103T080000
END:STANDARD
END:VTIMEZONE
BEGIN:VEVENT
DTSTART;VALUE=DATE:20230409
DTEND;VALUE=DATE:20230410
DTSTAMP:20260424T193411
CREATED:20230112T165036Z
LAST-MODIFIED:20230112T165036Z
UID:3963-1680998400-1681084799@coloradomusicinstitute.com
SUMMARY:CMI CLOSED
DESCRIPTION:CMI will be closed for lessons Sunday\, April 9th. This closure is part of our 48 week calendar – no lessons during this time are rescheduled. \n 
URL:https://coloradomusicinstitute.com/event/cmi-closed-2/
LOCATION:Colorado Music Institute
ORGANIZER;CN="Colorado Music Institute":MAILTO:cmistaff@coloradomusicinstitute.com
END:VEVENT
BEGIN:VEVENT
DTSTART;TZID=America/Denver:20230408T170000
DTEND;TZID=America/Denver:20230408T180000
DTSTAMP:20260424T193411
CREATED:20230209T173850Z
LAST-MODIFIED:20230209T173850Z
UID:4043-1680973200-1680976800@coloradomusicinstitute.com
SUMMARY:Performance Class - Guitar and Piano
DESCRIPTION:Led by Jacob Lee. Bring a piece prepared to perform!\n\nIf you are a current student\, this class is included with your tuition. If you are not a current student\, the fee is $40. Please feel free to call 303-347-9447 if you have any questions or need help registering for the class.
URL:https://coloradomusicinstitute.com/event/performance-class-guitar-and-piano-5/
LOCATION:Colorado Music Institute
ORGANIZER;CN="Colorado Music Institute":MAILTO:cmistaff@coloradomusicinstitute.com
END:VEVENT
BEGIN:VEVENT
DTSTART;TZID=America/Denver:20230330T190000
DTEND;TZID=America/Denver:20230330T200000
DTSTAMP:20260424T193411
CREATED:20230214T220434Z
LAST-MODIFIED:20230214T220434Z
UID:4060-1680202800-1680206400@coloradomusicinstitute.com
SUMMARY:Fundamentals of Basic Songwriting
DESCRIPTION:Led by Katie Gann!\n\nIf you are a current student\, this class is included with your tuition. If you are not a current student\, the fee is $40. Please feel free to call 303-347-9447 if you have any questions or need help registering for the class.
URL:https://coloradomusicinstitute.com/event/fundamentals-of-basic-songwriting-3/
LOCATION:Colorado Music Institute
ORGANIZER;CN="Colorado Music Institute":MAILTO:cmistaff@coloradomusicinstitute.com
END:VEVENT
BEGIN:VEVENT
DTSTART;TZID=America/Denver:20230328T191500
DTEND;TZID=America/Denver:20230328T201500
DTSTAMP:20260424T193411
CREATED:20230209T173100Z
LAST-MODIFIED:20230209T173100Z
UID:4027-1680030900-1680034500@coloradomusicinstitute.com
SUMMARY:Mallets and Music Trivia
DESCRIPTION:Led by Bill Travis\, sure to be a ton of fun!\n\nIf you are a current student\, this class is included with your tuition. If you are not a current student\, the fee is $40. Please feel free to call 303-347-9447 if you have any questions or need help registering for the class.
URL:https://coloradomusicinstitute.com/event/mallets-and-music-trivia/
LOCATION:Colorado Music Institute
ORGANIZER;CN="Colorado Music Institute":MAILTO:cmistaff@coloradomusicinstitute.com
END:VEVENT
BEGIN:VEVENT
DTSTART;TZID=America/Denver:20230327T193000
DTEND;TZID=America/Denver:20230327T203000
DTSTAMP:20260424T193411
CREATED:20230301T193044Z
LAST-MODIFIED:20230301T193044Z
UID:4076-1679945400-1679949000@coloradomusicinstitute.com
SUMMARY:Guitar Class
DESCRIPTION:Led by Ryan Stevens!\n\nIf you are a current student\, this class is included with your tuition. If you are not a current student\, the fee is $40. Please feel free to call 303-347-9447 if you have any questions or need help registering for the class.
URL:https://coloradomusicinstitute.com/event/guitar-class/
LOCATION:Colorado Music Institute
ORGANIZER;CN="Colorado Music Institute":MAILTO:cmistaff@coloradomusicinstitute.com
END:VEVENT
BEGIN:VEVENT
DTSTART;TZID=America/Denver:20230327T160000
DTEND;TZID=America/Denver:20230327T170000
DTSTAMP:20260424T193411
CREATED:20230214T220845Z
LAST-MODIFIED:20230214T220845Z
UID:4062-1679932800-1679936400@coloradomusicinstitute.com
SUMMARY:Beginner Music Theory Games
DESCRIPTION:Open to all students for any instrument! Led by Marysa Bocko\n\nIf you are a current student\, this class is included with your tuition. If you are not a current student\, the fee is $40. Please feel free to call 303-347-9447 if you have any questions or need help registering for the class.
URL:https://coloradomusicinstitute.com/event/beginner-music-theory-games/
LOCATION:Colorado Music Institute
ORGANIZER;CN="Colorado Music Institute":MAILTO:cmistaff@coloradomusicinstitute.com
END:VEVENT
BEGIN:VEVENT
DTSTART;TZID=America/Denver:20230326T123000
DTEND;TZID=America/Denver:20230326T133000
DTSTAMP:20260424T193411
CREATED:20230303T203452Z
LAST-MODIFIED:20230303T203452Z
UID:4082-1679833800-1679837400@coloradomusicinstitute.com
SUMMARY:Performance Class + Tips for Working with an Accompanist
DESCRIPTION:Led by Summer Lusk!\n\nIf you are a current student\, this class is included with your tuition. If you are not a current student\, the fee is $40. Please feel free to call 303-347-9447 if you have any questions or need help registering for the class.
URL:https://coloradomusicinstitute.com/event/performance-class-tips-for-working-with-an-accompanist/
LOCATION:Colorado Music Institute
ORGANIZER;CN="Colorado Music Institute":MAILTO:cmistaff@coloradomusicinstitute.com
END:VEVENT
BEGIN:VEVENT
DTSTART;VALUE=DATE:20230321
DTEND;VALUE=DATE:20230326
DTSTAMP:20260424T193411
CREATED:20230112T164912Z
LAST-MODIFIED:20230112T164912Z
UID:3961-1679356800-1679788799@coloradomusicinstitute.com
SUMMARY:CMI CLOSED
DESCRIPTION:CMI will be closed for lessons from Tuesday\, March 21 through Saturday\, March 25. We will be reopen for lessons beginning March 26th! This closure is part of our 48 week calendar – no lessons during this time are rescheduled. \nWe realize this spring break does not align with every school district. If you will miss lessons during another week for spring break\, please contact your teacher with options. You are always welcome to a masterclass\, or your teacher may be able to record your lesson for you while you are away.
URL:https://coloradomusicinstitute.com/event/cmi-closed/
LOCATION:Colorado Music Institute
ORGANIZER;CN="Colorado Music Institute":MAILTO:cmistaff@coloradomusicinstitute.com
END:VEVENT
BEGIN:VEVENT
DTSTART;TZID=America/Denver:20230319T123000
DTEND;TZID=America/Denver:20230319T133000
DTSTAMP:20260424T193411
CREATED:20230303T203351Z
LAST-MODIFIED:20230303T203351Z
UID:4080-1679229000-1679232600@coloradomusicinstitute.com
SUMMARY:Intro to Conducting
DESCRIPTION:Open to all students! Led by Summer Lusk.\n\nIf you are a current student\, this class is included with your tuition. If you are not a current student\, the fee is $40. Please feel free to call 303-347-9447 if you have any questions or need help registering for the class.
URL:https://coloradomusicinstitute.com/event/intro-to-conducting-3/
LOCATION:Colorado Music Institute
ORGANIZER;CN="Colorado Music Institute":MAILTO:cmistaff@coloradomusicinstitute.com
END:VEVENT
BEGIN:VEVENT
DTSTART;TZID=America/Denver:20230318T143000
DTEND;TZID=America/Denver:20230318T153000
DTSTAMP:20260424T193411
CREATED:20230222T200136Z
LAST-MODIFIED:20230222T200136Z
UID:4070-1679149800-1679153400@coloradomusicinstitute.com
SUMMARY:Beginner Piano Class
DESCRIPTION:Open to all piano beginners and students interested in piano. Led by Mary Worley!\n\nIf you are a current student\, this class is included with your tuition. If you are not a current student\, the fee is $40. Please feel free to call 303-347-9447 if you have any questions or need help registering for the class.
URL:https://coloradomusicinstitute.com/event/beginner-piano-class-4/
LOCATION:Colorado Music Institute
ORGANIZER;CN="Colorado Music Institute":MAILTO:cmistaff@coloradomusicinstitute.com
END:VEVENT
BEGIN:VEVENT
DTSTART;TZID=America/Denver:20230318T120000
DTEND;TZID=America/Denver:20230318T130000
DTSTAMP:20260424T193411
CREATED:20230209T173656Z
LAST-MODIFIED:20230209T173656Z
UID:4039-1679140800-1679144400@coloradomusicinstitute.com
SUMMARY:Woodwind Technique
DESCRIPTION:Led by Harry Grainger! Open to all current woodwind students.\n\nIf you are a current student\, this class is included with your tuition. If you are not a current student\, the fee is $40. Please feel free to call 303-347-9447 if you have any questions or need help registering for the class.
URL:https://coloradomusicinstitute.com/event/woodwind-technique-7/
LOCATION:Colorado Music Institute
ORGANIZER;CN="Colorado Music Institute":MAILTO:cmistaff@coloradomusicinstitute.com
END:VEVENT
BEGIN:VEVENT
DTSTART;TZID=America/Denver:20230315T193000
DTEND;TZID=America/Denver:20230315T203000
DTSTAMP:20260424T193411
CREATED:20230209T173443Z
LAST-MODIFIED:20230209T173443Z
UID:4035-1678908600-1678912200@coloradomusicinstitute.com
SUMMARY:Movie Music for Strings
DESCRIPTION:Led by Neil Gillette – come play some movie tunes in a small chamber strings group!\n\nIf you are a current student\, this class is included with your tuition. If you are not a current student\, the fee is $40. Please feel free to call 303-347-9447 if you have any questions or need help registering for the class.
URL:https://coloradomusicinstitute.com/event/movie-music-for-strings-5/
LOCATION:Colorado Music Institute
ORGANIZER;CN="Colorado Music Institute":MAILTO:cmistaff@coloradomusicinstitute.com
END:VEVENT
BEGIN:VEVENT
DTSTART;TZID=America/Denver:20230315T110000
DTEND;TZID=America/Denver:20230315T120000
DTSTAMP:20260424T193411
CREATED:20230301T192922Z
LAST-MODIFIED:20230301T192922Z
UID:4074-1678878000-1678881600@coloradomusicinstitute.com
SUMMARY:Improvisation for Everyone
DESCRIPTION:Open to students of all instruments\, led by Ryan Kargoll!\n\nIf you are a current student\, this class is included with your tuition. If you are not a current student\, the fee is $40. Please feel free to call 303-347-9447 if you have any questions or need help registering for the class.
URL:https://coloradomusicinstitute.com/event/improvisation-for-everyone/
LOCATION:Colorado Music Institute
ORGANIZER;CN="Colorado Music Institute":MAILTO:cmistaff@coloradomusicinstitute.com
END:VEVENT
BEGIN:VEVENT
DTSTART;TZID=America/Denver:20230311T170000
DTEND;TZID=America/Denver:20230311T180000
DTSTAMP:20260424T193411
CREATED:20230209T173339Z
LAST-MODIFIED:20230209T173339Z
UID:4033-1678554000-1678557600@coloradomusicinstitute.com
SUMMARY:Performance Class - Guitar and Piano
DESCRIPTION:Led by Jacob Lee. Bring a piece to perform and get comments on!\n\nIf you are a current student\, this class is included with your tuition. If you are not a current student\, the fee is $40. Please feel free to call 303-347-9447 if you have any questions or need help registering for the class.
URL:https://coloradomusicinstitute.com/event/performance-class-guitar-and-piano-4/
LOCATION:Colorado Music Institute
ORGANIZER;CN="Colorado Music Institute":MAILTO:cmistaff@coloradomusicinstitute.com
END:VEVENT
BEGIN:VEVENT
DTSTART;TZID=America/Denver:20230311T113000
DTEND;TZID=America/Denver:20230311T123000
DTSTAMP:20260424T193411
CREATED:20230209T173552Z
LAST-MODIFIED:20230211T192456Z
UID:4037-1678534200-1678537800@coloradomusicinstitute.com
SUMMARY:Piano Class!
DESCRIPTION:Open to all piano students. This class will be tailored to students who sign up and their individual level. Led by Maria Giefer.\n\nIf you are a current student\, this class is included with your tuition. If you are not a current student\, the fee is $40. Please feel free to call 303-347-9447 if you have any questions or need help registering for the class.
URL:https://coloradomusicinstitute.com/event/piano-class-2/
LOCATION:Colorado Music Institute
ORGANIZER;CN="Colorado Music Institute":MAILTO:cmistaff@coloradomusicinstitute.com
END:VEVENT
BEGIN:VEVENT
DTSTART;TZID=America/Denver:20230311T113000
DTEND;TZID=America/Denver:20230311T123000
DTSTAMP:20260424T193411
CREATED:20230209T173250Z
LAST-MODIFIED:20230209T173250Z
UID:4031-1678534200-1678537800@coloradomusicinstitute.com
SUMMARY:Conga Drumming
DESCRIPTION:Led by Sean Herzig!\n\nIf you are a current student\, this class is included with your tuition. If you are not a current student\, the fee is $40. Please feel free to call 303-347-9447 if you have any questions or need help registering for the class.
URL:https://coloradomusicinstitute.com/event/conga-drumming/
LOCATION:Colorado Music Institute
ORGANIZER;CN="Colorado Music Institute":MAILTO:cmistaff@coloradomusicinstitute.com
END:VEVENT
BEGIN:VEVENT
DTSTART;TZID=America/Denver:20230304T150000
DTEND;TZID=America/Denver:20230304T160000
DTSTAMP:20260424T193411
CREATED:20230214T215659Z
LAST-MODIFIED:20230214T215659Z
UID:4056-1677942000-1677945600@coloradomusicinstitute.com
SUMMARY:Scale and Chord Theory
DESCRIPTION:Great for guitar and piano students\, led by Ken Malave!\n\nIf you are a current student\, this class is included with your tuition. If you are not a current student\, the fee is $40. Please feel free to call 303-347-9447 if you have any questions or need help registering for the class.
URL:https://coloradomusicinstitute.com/event/scale-and-chord-theory-2/
LOCATION:Colorado Music Institute
ORGANIZER;CN="Colorado Music Institute":MAILTO:cmistaff@coloradomusicinstitute.com
END:VEVENT
BEGIN:VEVENT
DTSTART;TZID=America/Denver:20230302T183000
DTEND;TZID=America/Denver:20230302T193000
DTSTAMP:20260424T193411
CREATED:20230209T173203Z
LAST-MODIFIED:20230220T193448Z
UID:4029-1677781800-1677785400@coloradomusicinstitute.com
SUMMARY:Music Theory for All
DESCRIPTION:Open to all instruments and ages. Led by Edgar Grau!\n\nIf you are a current student\, this class is included with your tuition. If you are not a current student\, the fee is $40. Please feel free to call 303-347-9447 if you have any questions or need help registering for the class.
URL:https://coloradomusicinstitute.com/event/music-theory-for-all/
LOCATION:Colorado Music Institute
ORGANIZER;CN="Colorado Music Institute":MAILTO:cmistaff@coloradomusicinstitute.com
END:VEVENT
BEGIN:VEVENT
DTSTART;TZID=America/Denver:20230302T163000
DTEND;TZID=America/Denver:20230302T173000
DTSTAMP:20260424T193411
CREATED:20230222T194915Z
LAST-MODIFIED:20230222T194915Z
UID:4066-1677774600-1677778200@coloradomusicinstitute.com
SUMMARY:Violin and Piano Class
DESCRIPTION:Open to all violin and piano students\, led by Larisa Lewis!\n\nIf you are a current student\, this class is included with your tuition. If you are not a current student\, the fee is $40. Please feel free to call 303-347-9447 if you have any questions or need help registering for the class.
URL:https://coloradomusicinstitute.com/event/violin-and-piano-class-15/
LOCATION:Colorado Music Institute
ORGANIZER;CN="Colorado Music Institute":MAILTO:cmistaff@coloradomusicinstitute.com
END:VEVENT
BEGIN:VEVENT
DTSTART;TZID=America/Denver:20230228T191500
DTEND;TZID=America/Denver:20230228T201500
DTSTAMP:20260424T193411
CREATED:20230118T180615Z
LAST-MODIFIED:20230118T180615Z
UID:4002-1677611700-1677615300@coloradomusicinstitute.com
SUMMARY:Auxiliary Percussion
DESCRIPTION:Led by Bill Travis\, sure to be a ton of fun!\n\nIf you are a current student\, this class is included with your tuition. If you are not a current student\, the fee is $40. Please feel free to call 303-347-9447 if you have any questions or need help registering for the class.
URL:https://coloradomusicinstitute.com/event/auxiliary-percussion-6/
LOCATION:Colorado Music Institute
ORGANIZER;CN="Colorado Music Institute":MAILTO:cmistaff@coloradomusicinstitute.com
END:VEVENT
BEGIN:VEVENT
DTSTART;TZID=America/Denver:20230227T193000
DTEND;TZID=America/Denver:20230227T203000
DTSTAMP:20260424T193411
CREATED:20230208T193602Z
LAST-MODIFIED:20230208T193602Z
UID:4025-1677526200-1677529800@coloradomusicinstitute.com
SUMMARY:Cowboy Chords for Guitar
DESCRIPTION:Led by Ryan Stevens! This will be a review of open chords\, and students will go through various rhythm exercises.\n\nIf you are a current student\, this class is included with your tuition. If you are not a current student\, the fee is $40. Please feel free to call 303-347-9447 if you have any questions or need help registering for the class.
URL:https://coloradomusicinstitute.com/event/cowboy-chords-for-guitar/
LOCATION:Colorado Music Institute
ORGANIZER;CN="Colorado Music Institute":MAILTO:cmistaff@coloradomusicinstitute.com
END:VEVENT
BEGIN:VEVENT
DTSTART;TZID=America/Denver:20230225T160000
DTEND;TZID=America/Denver:20230225T170000
DTSTAMP:20260424T193411
CREATED:20230112T164603Z
LAST-MODIFIED:20230112T164603Z
UID:3959-1677340800-1677344400@coloradomusicinstitute.com
SUMMARY:Beginner Piano Class
DESCRIPTION:Open to all piano beginners\, led by Mary Worley!\n\nIf you are a current student\, this class is included with your tuition. If you are not a current student\, the fee is $40. Please feel free to call 303-347-9447 if you have any questions or need help registering for the class.
URL:https://coloradomusicinstitute.com/event/beginner-piano-class-2/
LOCATION:Colorado Music Institute
ORGANIZER;CN="Colorado Music Institute":MAILTO:cmistaff@coloradomusicinstitute.com
END:VEVENT
BEGIN:VEVENT
DTSTART;TZID=America/Denver:20230225T110000
DTEND;TZID=America/Denver:20230225T120000
DTSTAMP:20260424T193411
CREATED:20230118T181237Z
LAST-MODIFIED:20230118T181237Z
UID:4006-1677322800-1677326400@coloradomusicinstitute.com
SUMMARY:Fun with Odd Meter!
DESCRIPTION:Led by Sean Herzig!\n\nIf you are a current student\, this class is included with your tuition. If you are not a current student\, the fee is $40. Please feel free to call 303-347-9447 if you have any questions or need help registering for the class.
URL:https://coloradomusicinstitute.com/event/fun-with-odd-meter/
LOCATION:Colorado Music Institute
ORGANIZER;CN="Colorado Music Institute":MAILTO:cmistaff@coloradomusicinstitute.com
END:VEVENT
BEGIN:VEVENT
DTSTART;TZID=America/Denver:20230224T190000
DTEND;TZID=America/Denver:20230224T200000
DTSTAMP:20260424T193411
CREATED:20230118T203006Z
LAST-MODIFIED:20230118T203006Z
UID:4015-1677265200-1677268800@coloradomusicinstitute.com
SUMMARY:Tuning Workshop
DESCRIPTION:Open to all string students\, led by Suyi Ige!\n\nIf you are a current student\, this class is included with your tuition. If you are not a current student\, the fee is $40. Please feel free to call 303-347-9447 if you have any questions or need help registering for the class.
URL:https://coloradomusicinstitute.com/event/tuning-workshop/
LOCATION:Colorado Music Institute
ORGANIZER;CN="Colorado Music Institute":MAILTO:cmistaff@coloradomusicinstitute.com
END:VEVENT
BEGIN:VEVENT
DTSTART;TZID=America/Denver:20230224T150000
DTEND;TZID=America/Denver:20230224T160000
DTSTAMP:20260424T193411
CREATED:20230118T174842Z
LAST-MODIFIED:20230118T174842Z
UID:4000-1677250800-1677254400@coloradomusicinstitute.com
SUMMARY:Advanced Prep for College Entrance Music Theory
DESCRIPTION:Led by Don Satterfield! For the advanced music theorist. Test examples for studying students will be provided!\n\nIf you are a current student\, this class is included with your tuition. If you are not a current student\, the fee is $40. Please feel free to call 303-347-9447 if you have any questions or need help registering for the class.
URL:https://coloradomusicinstitute.com/event/advanced-prep-for-college-entrance-music-theory/
LOCATION:Colorado Music Institute
ORGANIZER;CN="Colorado Music Institute":MAILTO:cmistaff@coloradomusicinstitute.com
END:VEVENT
BEGIN:VEVENT
DTSTART;TZID=America/Denver:20230223T190000
DTEND;TZID=America/Denver:20230223T200000
DTSTAMP:20260424T193411
CREATED:20230214T220309Z
LAST-MODIFIED:20230214T220309Z
UID:4058-1677178800-1677182400@coloradomusicinstitute.com
SUMMARY:Fundamentals of Basic Songwriting
DESCRIPTION:Led by Katie Gann!\n\nIf you are a current student\, this class is included with your tuition. If you are not a current student\, the fee is $40. Please feel free to call 303-347-9447 if you have any questions or need help registering for the class.
URL:https://coloradomusicinstitute.com/event/fundamentals-of-basic-songwriting-2/
LOCATION:Colorado Music Institute
ORGANIZER;CN="Colorado Music Institute":MAILTO:cmistaff@coloradomusicinstitute.com
END:VEVENT
BEGIN:VEVENT
DTSTART;TZID=America/Denver:20230218T150000
DTEND;TZID=America/Denver:20230218T160000
DTSTAMP:20260424T193411
CREATED:20230214T215556Z
LAST-MODIFIED:20230214T215556Z
UID:4054-1676732400-1676736000@coloradomusicinstitute.com
SUMMARY:Scale and Chord Theory
DESCRIPTION:Great for guitar and piano students\, led by Ken Malave!\n\nIf you are a current student\, this class is included with your tuition. If you are not a current student\, the fee is $40. Please feel free to call 303-347-9447 if you have any questions or need help registering for the class.
URL:https://coloradomusicinstitute.com/event/scale-and-chord-theory/
LOCATION:Colorado Music Institute
ORGANIZER;CN="Colorado Music Institute":MAILTO:cmistaff@coloradomusicinstitute.com
END:VEVENT
BEGIN:VEVENT
DTSTART;TZID=America/Denver:20230218T140000
DTEND;TZID=America/Denver:20230218T150000
DTSTAMP:20260424T193411
CREATED:20230118T033419Z
LAST-MODIFIED:20230118T033419Z
UID:3978-1676728800-1676732400@coloradomusicinstitute.com
SUMMARY:Intro to Chord Theory\, Ages 11+
DESCRIPTION:For the older piano student\, beginners to advanced! Ages 11+\, led by Spencer Adamson.\n\nIf you are a current student\, this class is included with your tuition. If you are not a current student\, the fee is $40. Please feel free to call 303-347-9447 if you have any questions or need help registering for the class.
URL:https://coloradomusicinstitute.com/event/intro-to-chord-theory-ages-11/
LOCATION:Colorado Music Institute
ORGANIZER;CN="Colorado Music Institute":MAILTO:cmistaff@coloradomusicinstitute.com
END:VEVENT
BEGIN:VEVENT
DTSTART;TZID=America/Denver:20230218T120000
DTEND;TZID=America/Denver:20230218T130000
DTSTAMP:20260424T193411
CREATED:20230118T181621Z
LAST-MODIFIED:20230118T181621Z
UID:4011-1676721600-1676725200@coloradomusicinstitute.com
SUMMARY:Woodwind Technique
DESCRIPTION:Open to all woodwind students\, led by Harry Grainger. Bring your instrument!\n\nIf you are a current student\, this class is included with your tuition. If you are not a current student\, the fee is $40. Please feel free to call 303-347-9447 if you have any questions or need help registering for the class.
URL:https://coloradomusicinstitute.com/event/woodwind-technique-6/
LOCATION:Colorado Music Institute
ORGANIZER;CN="Colorado Music Institute":MAILTO:cmistaff@coloradomusicinstitute.com
END:VEVENT
BEGIN:VEVENT
DTSTART;TZID=America/Denver:20230217T183000
DTEND;TZID=America/Denver:20230217T191500
DTSTAMP:20260424T193411
CREATED:20230118T174436Z
LAST-MODIFIED:20230206T175829Z
UID:3994-1676658600-1676661300@coloradomusicinstitute.com
SUMMARY:Tonal Energy Tuner and How to Get the Most Out of It - ONLINE ONLY
DESCRIPTION:Tonal Energy Tuner is an Android/iOS app designed to make your practicing as efficient and successful as possible. Much more than a tuner\, you can record yourself in the in-depth “Analysis Mode”\, play drones on dozens of instrument sounds and on any chord you can imagine\, use the “Pitch Follow” function to fine tune your music making\, customize your metronome settings to prepare for nearly any time signatures and rhythms out there\, and so much more! \nWith so much you can do in one app\, it can be confusing to know just where to start sometimes. Please join us 2/10 on zoom for an in-depth look at one of the most useful practice tools available today. Happy practicing! \n\n\nIf you are a current student\, this class is included with your tuition. If you are not a current student\, the fee is $40. Please feel free to call 303-347-9447 if you have any questions or need help registering for the class.
URL:https://coloradomusicinstitute.com/event/tonal-energy-tuner-and-how-to-get-the-most-out-of-it-online-only/
LOCATION:Colorado Music Institute
ORGANIZER;CN="Colorado Music Institute":MAILTO:cmistaff@coloradomusicinstitute.com
END:VEVENT
END:VCALENDAR