BEGIN:VCALENDAR
VERSION:2.0
PRODID:-//Colorado Music Institute - ECPv6.15.17.1//NONSGML v1.0//EN
CALSCALE:GREGORIAN
METHOD:PUBLISH
X-WR-CALNAME:Colorado Music Institute
X-ORIGINAL-URL:https://coloradomusicinstitute.com
X-WR-CALDESC:Events for Colorado Music Institute
REFRESH-INTERVAL;VALUE=DURATION:PT1H
X-Robots-Tag:noindex
X-PUBLISHED-TTL:PT1H
BEGIN:VTIMEZONE
TZID:America/Denver
BEGIN:DAYLIGHT
TZOFFSETFROM:-0700
TZOFFSETTO:-0600
TZNAME:MDT
DTSTART:20210314T090000
END:DAYLIGHT
BEGIN:STANDARD
TZOFFSETFROM:-0600
TZOFFSETTO:-0700
TZNAME:MST
DTSTART:20211107T080000
END:STANDARD
BEGIN:DAYLIGHT
TZOFFSETFROM:-0700
TZOFFSETTO:-0600
TZNAME:MDT
DTSTART:20220313T090000
END:DAYLIGHT
BEGIN:STANDARD
TZOFFSETFROM:-0600
TZOFFSETTO:-0700
TZNAME:MST
DTSTART:20221106T080000
END:STANDARD
BEGIN:DAYLIGHT
TZOFFSETFROM:-0700
TZOFFSETTO:-0600
TZNAME:MDT
DTSTART:20230312T090000
END:DAYLIGHT
BEGIN:STANDARD
TZOFFSETFROM:-0600
TZOFFSETTO:-0700
TZNAME:MST
DTSTART:20231105T080000
END:STANDARD
BEGIN:DAYLIGHT
TZOFFSETFROM:-0700
TZOFFSETTO:-0600
TZNAME:MDT
DTSTART:20240310T090000
END:DAYLIGHT
BEGIN:STANDARD
TZOFFSETFROM:-0600
TZOFFSETTO:-0700
TZNAME:MST
DTSTART:20241103T080000
END:STANDARD
END:VTIMEZONE
BEGIN:VEVENT
DTSTART;TZID=America/Denver:20230215T193000
DTEND;TZID=America/Denver:20230215T203000
DTSTAMP:20260425T003027
CREATED:20230118T181416Z
LAST-MODIFIED:20230118T181416Z
UID:4008-1676489400-1676493000@coloradomusicinstitute.com
SUMMARY:Beginning Irish Music for Strings
DESCRIPTION:Open to all string students\, led by Neil Gillette!\n\nIf you are a current student\, this class is included with your tuition. If you are not a current student\, the fee is $40. Please feel free to call 303-347-9447 if you have any questions or need help registering for the class.
URL:https://coloradomusicinstitute.com/event/beginning-irish-music-for-strings/
LOCATION:Colorado Music Institute
ORGANIZER;CN="Colorado Music Institute":MAILTO:cmistaff@coloradomusicinstitute.com
END:VEVENT
BEGIN:VEVENT
DTSTART;TZID=America/Denver:20230212T120000
DTEND;TZID=America/Denver:20230212T130000
DTSTAMP:20260425T003027
CREATED:20230118T172747Z
LAST-MODIFIED:20230118T172747Z
UID:3992-1676203200-1676206800@coloradomusicinstitute.com
SUMMARY:Crash Course on AP Music Theory
DESCRIPTION:This class is open to all students enrolled in an AP music theory class looking for extra prep and practice for the exam! Led by Ash Mach.\n\nIf you are a current student\, this class is included with your tuition. If you are not a current student\, the fee is $40. Please feel free to call 303-347-9447 if you have any questions or need help registering for the class.
URL:https://coloradomusicinstitute.com/event/crash-course-on-ap-music-theory/
LOCATION:Colorado Music Institute
ORGANIZER;CN="Colorado Music Institute":MAILTO:cmistaff@coloradomusicinstitute.com
END:VEVENT
BEGIN:VEVENT
DTSTART;TZID=America/Denver:20230211T170000
DTEND;TZID=America/Denver:20230211T180000
DTSTAMP:20260425T003027
CREATED:20230118T180843Z
LAST-MODIFIED:20230118T180843Z
UID:4004-1676134800-1676138400@coloradomusicinstitute.com
SUMMARY:Performance Class - Guitar and Piano
DESCRIPTION:Led by Jacob Lee. Bring a piece prepared to perform!\n\nIf you are a current student\, this class is included with your tuition. If you are not a current student\, the fee is $40. Please feel free to call 303-347-9447 if you have any questions or need help registering for the class.
URL:https://coloradomusicinstitute.com/event/performance-class-guitar-and-piano-3/
LOCATION:Colorado Music Institute
ORGANIZER;CN="Colorado Music Institute":MAILTO:cmistaff@coloradomusicinstitute.com
END:VEVENT
BEGIN:VEVENT
DTSTART;TZID=America/Denver:20230211T113000
DTEND;TZID=America/Denver:20230211T123000
DTSTAMP:20260425T003027
CREATED:20230112T164432Z
LAST-MODIFIED:20230112T164432Z
UID:3957-1676115000-1676118600@coloradomusicinstitute.com
SUMMARY:Piano Class!
DESCRIPTION:Open to all piano students. This class will be tailored to students who sign up and their individual level. Led by Maria Giefer.\n\nIf you are a current student\, this class is included with your tuition. If you are not a current student\, the fee is $40. Please feel free to call 303-347-9447 if you have any questions or need help registering for the class.
URL:https://coloradomusicinstitute.com/event/piano-class/
LOCATION:Colorado Music Institute
ORGANIZER;CN="Colorado Music Institute":MAILTO:cmistaff@coloradomusicinstitute.com
END:VEVENT
BEGIN:VEVENT
DTSTART;TZID=America/Denver:20230210T190000
DTEND;TZID=America/Denver:20230210T200000
DTSTAMP:20260425T003027
CREATED:20230118T172640Z
LAST-MODIFIED:20230118T172640Z
UID:3990-1676055600-1676059200@coloradomusicinstitute.com
SUMMARY:Breathing Techniques\, Ages 11+
DESCRIPTION:Carin Palmer will help singers and wind players with new breathing techniques to help performance!\n\nIf you are a current student\, this class is included with your tuition. If you are not a current student\, the fee is $40. Please feel free to call 303-347-9447 if you have any questions or need help registering for the class.
URL:https://coloradomusicinstitute.com/event/breathing-techniques-ages-11/
LOCATION:Colorado Music Institute
ORGANIZER;CN="Colorado Music Institute":MAILTO:cmistaff@coloradomusicinstitute.com
END:VEVENT
BEGIN:VEVENT
DTSTART;TZID=America/Denver:20230204T140000
DTEND;TZID=America/Denver:20230204T150000
DTSTAMP:20260425T003027
CREATED:20230106T160458Z
LAST-MODIFIED:20230106T160458Z
UID:3945-1675519200-1675522800@coloradomusicinstitute.com
SUMMARY:Musical Jeopardy\, Ages 7+
DESCRIPTION:Come quiz your music knowledge in this fun game with Kerry Cottingham! Open to ALL instruments!\n\nIf you are a current student\, this class is included with your tuition. If you are not a current student\, the fee is $40. Please feel free to call 303-347-9447 if you have any questions or need help registering for the class.
URL:https://coloradomusicinstitute.com/event/musical-jeopardy-ages-7/
LOCATION:Colorado Music Institute
ORGANIZER;CN="Colorado Music Institute":MAILTO:cmistaff@coloradomusicinstitute.com
END:VEVENT
BEGIN:VEVENT
DTSTART;TZID=America/Denver:20230203T160000
DTEND;TZID=America/Denver:20230203T170000
DTSTAMP:20260425T003027
CREATED:20230118T172527Z
LAST-MODIFIED:20230118T172527Z
UID:3988-1675440000-1675443600@coloradomusicinstitute.com
SUMMARY:Practice Strategies for the Neurodivergent
DESCRIPTION:Open to all instruments\, led by Tessa Jordan!\n\nIf you are a current student\, this class is included with your tuition. If you are not a current student\, the fee is $40. Please feel free to call 303-347-9447 if you have any questions or need help registering for the class.
URL:https://coloradomusicinstitute.com/event/practice-strategies-for-the-neurodivergent/
LOCATION:Colorado Music Institute
ORGANIZER;CN="Colorado Music Institute":MAILTO:cmistaff@coloradomusicinstitute.com
END:VEVENT
BEGIN:VEVENT
DTSTART;TZID=America/Denver:20230201T183000
DTEND;TZID=America/Denver:20230201T193000
DTSTAMP:20260425T003027
CREATED:20230118T033817Z
LAST-MODIFIED:20230118T033817Z
UID:3980-1675276200-1675279800@coloradomusicinstitute.com
SUMMARY:Beginner Music Theory
DESCRIPTION:This class is ideal for pianists\, but all instruments are welcome! Led by Marysa Bocko\n\nIf you are a current student\, this class is included with your tuition. If you are not a current student\, the fee is $40. Please feel free to call 303-347-9447 if you have any questions or need help registering for the class.
URL:https://coloradomusicinstitute.com/event/beginner-music-theory-2/
LOCATION:Colorado Music Institute
ORGANIZER;CN="Colorado Music Institute":MAILTO:cmistaff@coloradomusicinstitute.com
END:VEVENT
BEGIN:VEVENT
DTSTART;TZID=America/Denver:20230201T160000
DTEND;TZID=America/Denver:20230201T170000
DTSTAMP:20260425T003027
CREATED:20230118T172432Z
LAST-MODIFIED:20230118T172432Z
UID:3986-1675267200-1675270800@coloradomusicinstitute.com
SUMMARY:Woodwind Performance
DESCRIPTION:Open to all woodwind students of any level. Led by Maggie Paucek!\n\nIf you are a current student\, this class is included with your tuition. If you are not a current student\, the fee is $40. Please feel free to call 303-347-9447 if you have any questions or need help registering for the class.
URL:https://coloradomusicinstitute.com/event/woodwind-performance/
LOCATION:Colorado Music Institute
ORGANIZER;CN="Colorado Music Institute":MAILTO:cmistaff@coloradomusicinstitute.com
END:VEVENT
BEGIN:VEVENT
DTSTART;TZID=America/Denver:20230130T150000
DTEND;TZID=America/Denver:20230130T160000
DTSTAMP:20260425T003027
CREATED:20230118T172339Z
LAST-MODIFIED:20230118T172339Z
UID:3984-1675090800-1675094400@coloradomusicinstitute.com
SUMMARY:Blues Basics
DESCRIPTION:Level 2 and up\, any instrument. Learn about the basic elements of blues style\, including melody\, harmony\, form\, bass lines\, blue notes and scales\, and more! Led by Arissa Majure.\n\nIf you are a current student\, this class is included with your tuition. If you are not a current student\, the fee is $40. Please feel free to call 303-347-9447 if you have any questions or need help registering for the class.
URL:https://coloradomusicinstitute.com/event/blues-basics/
LOCATION:Colorado Music Institute
ORGANIZER;CN="Colorado Music Institute":MAILTO:cmistaff@coloradomusicinstitute.com
END:VEVENT
BEGIN:VEVENT
DTSTART;TZID=America/Denver:20230129T150000
DTEND;TZID=America/Denver:20230129T160000
DTSTAMP:20260425T003027
CREATED:20230118T174732Z
LAST-MODIFIED:20230118T174732Z
UID:3998-1675004400-1675008000@coloradomusicinstitute.com
SUMMARY:Intro to Conducting
DESCRIPTION:Open to all instruments and ages\, led by Summer Lusk!\n\nIf you are a current student\, this class is included with your tuition. If you are not a current student\, the fee is $40. Please feel free to call 303-347-9447 if you have any questions or need help registering for the class.
URL:https://coloradomusicinstitute.com/event/intro-to-conducting-2/
LOCATION:Colorado Music Institute
ORGANIZER;CN="Colorado Music Institute":MAILTO:cmistaff@coloradomusicinstitute.com
END:VEVENT
BEGIN:VEVENT
DTSTART;TZID=America/Denver:20230129T120000
DTEND;TZID=America/Denver:20230129T130000
DTSTAMP:20260425T003027
CREATED:20230118T172252Z
LAST-MODIFIED:20230118T172252Z
UID:3982-1674993600-1674997200@coloradomusicinstitute.com
SUMMARY:Fundamentals of Basic Songwriting
DESCRIPTION:Open to all students\, led by Katie Gann!\n\nIf you are a current student\, this class is included with your tuition. If you are not a current student\, the fee is $40. Please feel free to call 303-347-9447 if you have any questions or need help registering for the class.
URL:https://coloradomusicinstitute.com/event/fundamentals-of-basic-songwriting/
LOCATION:Colorado Music Institute
ORGANIZER;CN="Colorado Music Institute":MAILTO:cmistaff@coloradomusicinstitute.com
END:VEVENT
BEGIN:VEVENT
DTSTART;TZID=America/Denver:20230128T160000
DTEND;TZID=America/Denver:20230128T170000
DTSTAMP:20260425T003027
CREATED:20230112T164214Z
LAST-MODIFIED:20230112T164214Z
UID:3955-1674921600-1674925200@coloradomusicinstitute.com
SUMMARY:Beginner Piano Class
DESCRIPTION:Open to all piano beginners\, led by Mary Worley!\n\nIf you are a current student\, this class is included with your tuition. If you are not a current student\, the fee is $40. Please feel free to call 303-347-9447 if you have any questions or need help registering for the class.
URL:https://coloradomusicinstitute.com/event/beginner-piano-class/
LOCATION:Colorado Music Institute
ORGANIZER;CN="Colorado Music Institute":MAILTO:cmistaff@coloradomusicinstitute.com
END:VEVENT
BEGIN:VEVENT
DTSTART;TZID=America/Denver:20230128T120000
DTEND;TZID=America/Denver:20230128T130000
DTSTAMP:20260425T003027
CREATED:20230118T225841Z
LAST-MODIFIED:20230118T225841Z
UID:4017-1674907200-1674910800@coloradomusicinstitute.com
SUMMARY:Musician Skills\, Aural Training\, and Musical Terms
DESCRIPTION:This class is for beginner to early intermediate students who are able to read words and treble clef. Students will learn intervals of 2nd\, 3rd\, 4th\, and 5th. Equivalent to Piano Adventures levels 1-2B. Led by Su Qi Yong!\n\nIf you are a current student\, this class is included with your tuition. If you are not a current student\, the fee is $40. Please feel free to call 303-347-9447 if you have any questions or need help registering for the class.
URL:https://coloradomusicinstitute.com/event/musician-skills-aural-training-and-musical-terms/
LOCATION:Colorado Music Institute
ORGANIZER;CN="Colorado Music Institute":MAILTO:cmistaff@coloradomusicinstitute.com
END:VEVENT
BEGIN:VEVENT
DTSTART;TZID=America/Denver:20230128T110000
DTEND;TZID=America/Denver:20230128T120000
DTSTAMP:20260425T003027
CREATED:20230112T164131Z
LAST-MODIFIED:20230112T164131Z
UID:3953-1674903600-1674907200@coloradomusicinstitute.com
SUMMARY:Percussion Ensemble
DESCRIPTION:Open to all percussion students! Come play some ensemble music together with Sean Herzig.\n\nIf you are a current student\, this class is included with your tuition. If you are not a current student\, the fee is $40. Please feel free to call 303-347-9447 if you have any questions or need help registering for the class.
URL:https://coloradomusicinstitute.com/event/percussion-ensemble-2/
LOCATION:Colorado Music Institute
ORGANIZER;CN="Colorado Music Institute":MAILTO:cmistaff@coloradomusicinstitute.com
END:VEVENT
BEGIN:VEVENT
DTSTART;TZID=America/Denver:20230127T190000
DTEND;TZID=America/Denver:20230127T200000
DTSTAMP:20260425T003027
CREATED:20230118T230543Z
LAST-MODIFIED:20230118T230543Z
UID:4019-1674846000-1674849600@coloradomusicinstitute.com
SUMMARY:Piano/Voice Performance Tips
DESCRIPTION:All piano and voice students are welcome! Cortez Daniel will go over tips for performing in any situation!\n\nIf you are a current student\, this class is included with your tuition. If you are not a current student\, the fee is $40. Please feel free to call 303-347-9447 if you have any questions or need help registering for the class.
URL:https://coloradomusicinstitute.com/event/piano-voice-performance-tips/
LOCATION:Colorado Music Institute
ORGANIZER;CN="Colorado Music Institute":MAILTO:cmistaff@coloradomusicinstitute.com
END:VEVENT
BEGIN:VEVENT
DTSTART;TZID=America/Denver:20230127T190000
DTEND;TZID=America/Denver:20230127T200000
DTSTAMP:20260425T003027
CREATED:20230118T202904Z
LAST-MODIFIED:20230118T202904Z
UID:4013-1674846000-1674849600@coloradomusicinstitute.com
SUMMARY:Chamber Music 101
DESCRIPTION:Open to all string students\, led by Suyi Ige!\n\nIf you are a current student\, this class is included with your tuition. If you are not a current student\, the fee is $40. Please feel free to call 303-347-9447 if you have any questions or need help registering for the class.
URL:https://coloradomusicinstitute.com/event/chamber-music-101/
LOCATION:Colorado Music Institute
ORGANIZER;CN="Colorado Music Institute":MAILTO:cmistaff@coloradomusicinstitute.com
END:VEVENT
BEGIN:VEVENT
DTSTART;TZID=America/Denver:20230127T190000
DTEND;TZID=America/Denver:20230127T200000
DTSTAMP:20260425T003027
CREATED:20230106T160355Z
LAST-MODIFIED:20230106T160355Z
UID:3943-1674846000-1674849600@coloradomusicinstitute.com
SUMMARY:Improvisation Class
DESCRIPTION:Open to piano and guitar students\, led by Ryan Kargoll\n\nIf you are a current student\, this class is included with your tuition. If you are not a current student\, the fee is $40. Please feel free to call 303-347-9447 if you have any questions or need help registering for the class.
URL:https://coloradomusicinstitute.com/event/improvisation-class/
LOCATION:Colorado Music Institute
ORGANIZER;CN="Colorado Music Institute":MAILTO:cmistaff@coloradomusicinstitute.com
END:VEVENT
BEGIN:VEVENT
DTSTART;TZID=America/Denver:20230127T150000
DTEND;TZID=America/Denver:20230127T160000
DTSTAMP:20260425T003027
CREATED:20230118T174644Z
LAST-MODIFIED:20230118T174644Z
UID:3996-1674831600-1674835200@coloradomusicinstitute.com
SUMMARY:Chords and Their Inversions/Comprehensive Key Signature Review
DESCRIPTION:Led by Don Satterfield. This class is intended for college prep exams and advanced music theorists.\n\nIf you are a current student\, this class is included with your tuition. If you are not a current student\, the fee is $40. Please feel free to call 303-347-9447 if you have any questions or need help registering for the class.
URL:https://coloradomusicinstitute.com/event/chords-and-their-inversions-comprehensive-key-signature-review/
LOCATION:Colorado Music Institute
ORGANIZER;CN="Colorado Music Institute":MAILTO:cmistaff@coloradomusicinstitute.com
END:VEVENT
BEGIN:VEVENT
DTSTART;TZID=America/Denver:20230126T180000
DTEND;TZID=America/Denver:20230126T190000
DTSTAMP:20260425T003027
CREATED:20230106T160311Z
LAST-MODIFIED:20230106T160311Z
UID:3941-1674756000-1674759600@coloradomusicinstitute.com
SUMMARY:Basic Improvisation for Piano - All Ages
DESCRIPTION:Open to all ages for beginner improvisers! Led by Edgar Grau\n\nIf you are a current student\, this class is included with your tuition. If you are not a current student\, the fee is $40. Please feel free to call 303-347-9447 if you have any questions or need help registering for the class.
URL:https://coloradomusicinstitute.com/event/basic-improvisation-for-piano-all-ages/
LOCATION:Colorado Music Institute
ORGANIZER;CN="Colorado Music Institute":MAILTO:cmistaff@coloradomusicinstitute.com
END:VEVENT
BEGIN:VEVENT
DTSTART;TZID=America/Denver:20230124T191500
DTEND;TZID=America/Denver:20230124T201500
DTSTAMP:20260425T003027
CREATED:20230106T160207Z
LAST-MODIFIED:20230106T160207Z
UID:3939-1674587700-1674591300@coloradomusicinstitute.com
SUMMARY:Rudiments and Hand Speed
DESCRIPTION:Led by Bill Travis\, sure to be a ton of fun!\n\nIf you are a current student\, this class is included with your tuition. If you are not a current student\, the fee is $40. Please feel free to call 303-347-9447 if you have any questions or need help registering for the class.
URL:https://coloradomusicinstitute.com/event/rudiments-and-hand-speed/
LOCATION:Colorado Music Institute
ORGANIZER;CN="Colorado Music Institute":MAILTO:cmistaff@coloradomusicinstitute.com
END:VEVENT
BEGIN:VEVENT
DTSTART;TZID=America/Denver:20230122T120000
DTEND;TZID=America/Denver:20230122T160000
DTSTAMP:20260425T003027
CREATED:20221113T181145Z
LAST-MODIFIED:20221113T181145Z
UID:3883-1674388800-1674403200@coloradomusicinstitute.com
SUMMARY:CMI Winter Recital
DESCRIPTION:Get excited for our Winter Recital! Recital dates are January 20\, 21\, and 22\, 2023. Please sign up for a time slot during the weekend. We’ve adjusted times from our fall recital to give more space for transition time and allow for warm-ups and receptions. All signups will be through the link on SignUp Genius. Teachers names will be added to time slots as they know when they are able to attend. \nThe new building address 11234 E. Caley Ave\, Centennial\, CO 80112. \nContact the front desk or talk to your teacher if you have any questions! We are SO excited to celebrate our students!
URL:https://coloradomusicinstitute.com/event/cmi-winter-recital-3/
LOCATION:Colorado Music Institute
ORGANIZER;CN="Colorado Music Institute":MAILTO:cmistaff@coloradomusicinstitute.com
END:VEVENT
BEGIN:VEVENT
DTSTART;TZID=America/Denver:20230121T120000
DTEND;TZID=America/Denver:20230121T130000
DTSTAMP:20260425T003027
CREATED:20221214T194127Z
LAST-MODIFIED:20221214T194320Z
UID:3922-1674302400-1674306000@coloradomusicinstitute.com
SUMMARY:Woodwind Technique
DESCRIPTION:Open to all woodwind students\, led by Harry Grainger. Bring your instrument!\n\nIf you are a current student\, this class is included with your tuition. If you are not a current student\, the fee is $40. Please feel free to call 303-347-9447 if you have any questions or need help registering for the class.
URL:https://coloradomusicinstitute.com/event/woodwind-technique-5/
LOCATION:Colorado Music Institute
ORGANIZER;CN="Colorado Music Institute":MAILTO:cmistaff@coloradomusicinstitute.com
END:VEVENT
BEGIN:VEVENT
DTSTART;TZID=America/Denver:20230121T103000
DTEND;TZID=America/Denver:20230121T203000
DTSTAMP:20260425T003027
CREATED:20221113T181106Z
LAST-MODIFIED:20221113T181106Z
UID:3881-1674297000-1674333000@coloradomusicinstitute.com
SUMMARY:CMI Winter Recital
DESCRIPTION:Get excited for our Winter Recital! Recital dates are January 20\, 21\, and 22\, 2023. Please sign up for a time slot during the weekend. We’ve adjusted times from our fall recital to give more space for transition time and allow for warm-ups and receptions. All signups will be through the link on SignUp Genius. Teachers names will be added to time slots as they know when they are able to attend. \nThe new building address 11234 E. Caley Ave\, Centennial\, CO 80112. \nContact the front desk or talk to your teacher if you have any questions! We are SO excited to celebrate our students!
URL:https://coloradomusicinstitute.com/event/cmi-winter-recital-2/
LOCATION:Colorado Music Institute
ORGANIZER;CN="Colorado Music Institute":MAILTO:cmistaff@coloradomusicinstitute.com
END:VEVENT
BEGIN:VEVENT
DTSTART;TZID=America/Denver:20230120T170000
DTEND;TZID=America/Denver:20230120T210000
DTSTAMP:20260425T003027
CREATED:20221113T181027Z
LAST-MODIFIED:20221113T181027Z
UID:3879-1674234000-1674248400@coloradomusicinstitute.com
SUMMARY:CMI Winter Recital
DESCRIPTION:Get excited for our Winter Recital! Recital dates are January 20\, 21\, and 22\, 2023. Please sign up for a time slot during the weekend. We’ve adjusted times from our fall recital to give more space for transition time and allow for warm-ups and receptions. All signups will be through the link on SignUp Genius. Teachers names will be added to time slots as they know when they are able to attend. \nThe new building address 11234 E. Caley Ave\, Centennial\, CO 80112. \nContact the front desk or talk to your teacher if you have any questions! We are SO excited to celebrate our students!
URL:https://coloradomusicinstitute.com/event/cmi-winter-recital/
LOCATION:Colorado Music Institute
ORGANIZER;CN="Colorado Music Institute":MAILTO:cmistaff@coloradomusicinstitute.com
END:VEVENT
BEGIN:VEVENT
DTSTART;TZID=America/Denver:20230118T193000
DTEND;TZID=America/Denver:20230118T203000
DTSTAMP:20260425T003027
CREATED:20221214T194509Z
LAST-MODIFIED:20221214T194509Z
UID:3930-1674070200-1674073800@coloradomusicinstitute.com
SUMMARY:Movie Music for Strings
DESCRIPTION:Led by Neil Gillette – come play some movie tunes in a small chamber strings group!\n\nIf you are a current student\, this class is included with your tuition. If you are not a current student\, the fee is $40. Please feel free to call 303-347-9447 if you have any questions or need help registering for the class.
URL:https://coloradomusicinstitute.com/event/movie-music-for-strings-4/
LOCATION:Colorado Music Institute
ORGANIZER;CN="Colorado Music Institute":MAILTO:cmistaff@coloradomusicinstitute.com
END:VEVENT
BEGIN:VEVENT
DTSTART;TZID=America/Denver:20230114T170000
DTEND;TZID=America/Denver:20230114T180000
DTSTAMP:20260425T003027
CREATED:20221214T194417Z
LAST-MODIFIED:20221214T194417Z
UID:3928-1673715600-1673719200@coloradomusicinstitute.com
SUMMARY:Performance Class - Guitar and Piano
DESCRIPTION:Led by Jacob Lee. Bring a piece prepared to perform!\n\nIf you are a current student\, this class is included with your tuition. If you are not a current student\, the fee is $40. Please feel free to call 303-347-9447 if you have any questions or need help registering for the class.
URL:https://coloradomusicinstitute.com/event/performance-class-guitar-and-piano-2/
LOCATION:Colorado Music Institute
ORGANIZER;CN="Colorado Music Institute":MAILTO:cmistaff@coloradomusicinstitute.com
END:VEVENT
BEGIN:VEVENT
DTSTART;TZID=America/Denver:20230107T133000
DTEND;TZID=America/Denver:20230107T143000
DTSTAMP:20260425T003027
CREATED:20221214T194225Z
LAST-MODIFIED:20221214T194301Z
UID:3924-1673098200-1673101800@coloradomusicinstitute.com
SUMMARY:Performance Class for Strings
DESCRIPTION:Neil Gillette will help students prepare for the upcoming recital in our theater! Get practice walking on stage\, bowing\, performing\, and more! \n\n\nIf you are a current student\, this class is included with your tuition. If you are not a current student\, the fee is $40. Please feel free to call 303-347-9447 if you have any questions or need help registering for the class.
URL:https://coloradomusicinstitute.com/event/performance-class-for-strings/
LOCATION:Colorado Music Institute
ORGANIZER;CN="Colorado Music Institute":MAILTO:cmistaff@coloradomusicinstitute.com
END:VEVENT
BEGIN:VEVENT
DTSTART;VALUE=DATE:20221222
DTEND;VALUE=DATE:20230102
DTSTAMP:20260425T003027
CREATED:20221214T174035Z
LAST-MODIFIED:20221214T174035Z
UID:3920-1671667200-1672617599@coloradomusicinstitute.com
SUMMARY:CMI CLOSED - WINTER BREAK
DESCRIPTION:CMI will be closed for lessons from December 22\, 2022 through January 1\, 2023. We will be reopen for lessons beginning January 2nd! This closure is part of our 48 week calendar – no lessons during this time are rescheduled. \nHappy holidays!!
URL:https://coloradomusicinstitute.com/event/cmi-closed-winter-break/
LOCATION:Colorado Music Institute
ORGANIZER;CN="Colorado Music Institute":MAILTO:cmistaff@coloradomusicinstitute.com
END:VEVENT
BEGIN:VEVENT
DTSTART;TZID=America/Denver:20221217T120000
DTEND;TZID=America/Denver:20221217T130000
DTSTAMP:20260425T003027
CREATED:20221101T001508Z
LAST-MODIFIED:20221101T001508Z
UID:3845-1671278400-1671282000@coloradomusicinstitute.com
SUMMARY:Woodwind Technique
DESCRIPTION:Open to all woodwind students\, led by Harry Grainger. Bring your instrument!\n\nIf you are a current student\, this class is available for free. If you are not a current student\, the fee is $40. Please feel free to call 303-347-9447 if you have any questions or need help registering for the class.
URL:https://coloradomusicinstitute.com/event/woodwind-technique-4/
LOCATION:Colorado Music Institute
ORGANIZER;CN="Colorado Music Institute":MAILTO:cmistaff@coloradomusicinstitute.com
END:VEVENT
END:VCALENDAR