BEGIN:VCALENDAR
VERSION:2.0
PRODID:-//Colorado Music Institute - ECPv6.15.17.1//NONSGML v1.0//EN
CALSCALE:GREGORIAN
METHOD:PUBLISH
X-ORIGINAL-URL:https://coloradomusicinstitute.com
X-WR-CALDESC:Events for Colorado Music Institute
REFRESH-INTERVAL;VALUE=DURATION:PT1H
X-Robots-Tag:noindex
X-PUBLISHED-TTL:PT1H
BEGIN:VTIMEZONE
TZID:America/Denver
BEGIN:DAYLIGHT
TZOFFSETFROM:-0700
TZOFFSETTO:-0600
TZNAME:MDT
DTSTART:20210314T090000
END:DAYLIGHT
BEGIN:STANDARD
TZOFFSETFROM:-0600
TZOFFSETTO:-0700
TZNAME:MST
DTSTART:20211107T080000
END:STANDARD
BEGIN:DAYLIGHT
TZOFFSETFROM:-0700
TZOFFSETTO:-0600
TZNAME:MDT
DTSTART:20220313T090000
END:DAYLIGHT
BEGIN:STANDARD
TZOFFSETFROM:-0600
TZOFFSETTO:-0700
TZNAME:MST
DTSTART:20221106T080000
END:STANDARD
BEGIN:DAYLIGHT
TZOFFSETFROM:-0700
TZOFFSETTO:-0600
TZNAME:MDT
DTSTART:20230312T090000
END:DAYLIGHT
BEGIN:STANDARD
TZOFFSETFROM:-0600
TZOFFSETTO:-0700
TZNAME:MST
DTSTART:20231105T080000
END:STANDARD
END:VTIMEZONE
BEGIN:VEVENT
DTSTART;TZID=America/Denver:20220618T120000
DTEND;TZID=America/Denver:20220618T130000
DTSTAMP:20260425T164350
CREATED:20220610T182448Z
LAST-MODIFIED:20220610T182448Z
UID:3617-1655553600-1655557200@coloradomusicinstitute.com
SUMMARY:Reed Adjustment and Maintenance
DESCRIPTION:It all starts with the reed. We will look at some things you can do to make your reeds play easier with a better sound. If you can\, bring a 4×4 piece of 220 grit wet/dry sandpaper.\n\n\nIf you are a current student\, this class is available for free. If you are not a current student\, the fee is $40.Please feel free to call 303-347-9447 if you have any questions or need help registering for the class.
URL:https://coloradomusicinstitute.com/event/reed-adjustment-and-maintenance-3/
LOCATION:Colorado Music Institute
ORGANIZER;CN="Colorado Music Institute":MAILTO:cmistaff@coloradomusicinstitute.com
END:VEVENT
BEGIN:VEVENT
DTSTART;TZID=America/Denver:20220609T170000
DTEND;TZID=America/Denver:20220609T180000
DTSTAMP:20260425T164350
CREATED:20220527T160036Z
LAST-MODIFIED:20220527T160036Z
UID:3593-1654794000-1654797600@coloradomusicinstitute.com
SUMMARY:Pentatonic Scales on Guitar
DESCRIPTION:Arissa Majure will lead students in the 5 pentatonic scales on guitar using the CAGED system. Open to late beginner (3-6 months experience) and up.\n\n\nIf you are a current student\, this class is available for free. If you are not a current student\, the fee is $40. Please feel free to call 303-347-9447 if you have any questions or need help registering for the class.
URL:https://coloradomusicinstitute.com/event/pentatonic-scales-on-guitar/
LOCATION:Colorado Music Institute
ORGANIZER;CN="Colorado Music Institute":MAILTO:cmistaff@coloradomusicinstitute.com
END:VEVENT
BEGIN:VEVENT
DTSTART;TZID=America/Denver:20220608T160000
DTEND;TZID=America/Denver:20220608T170000
DTSTAMP:20260425T164350
CREATED:20220527T155934Z
LAST-MODIFIED:20220527T155934Z
UID:3591-1654704000-1654707600@coloradomusicinstitute.com
SUMMARY:Beginning String Ensemble
DESCRIPTION:Open to all beginning and early intermediate string players! Led by Neil Gillette.\n\n\n\nIf you are a current student\, this class is available for free. If you are not a current student\, the fee is $40. Please feel free to call 303-347-9447 if you have any questions or need help registering for the class.
URL:https://coloradomusicinstitute.com/event/beginning-string-ensemble/
LOCATION:Colorado Music Institute
ORGANIZER;CN="Colorado Music Institute":MAILTO:cmistaff@coloradomusicinstitute.com
END:VEVENT
BEGIN:VEVENT
DTSTART;TZID=America/Denver:20220607T110000
DTEND;TZID=America/Denver:20220607T120000
DTSTAMP:20260425T164350
CREATED:20220502T234216Z
LAST-MODIFIED:20220502T234216Z
UID:3572-1654599600-1654603200@coloradomusicinstitute.com
SUMMARY:Performance Class for Strings and Piano
DESCRIPTION:Summer Lusk and Crystal Schneckenburger will lead a class for students to perform on their instruments! This is open to all string and piano students of all levels.\n\nIf you are a current student\, this class is available for free. If you are not a current student\, the fee is $40. Please feel free to call 303-347-9447 if you have any questions or need help registering for the class.\n\nMinimum of 3 for class to be held. If less than 3 students by 8pm the night before the class\, then the class may be cancelled.
URL:https://coloradomusicinstitute.com/event/performance-class-for-strings-and-piano-5/
LOCATION:Colorado Music Institute
ORGANIZER;CN="Colorado Music Institute":MAILTO:cmistaff@coloradomusicinstitute.com
END:VEVENT
BEGIN:VEVENT
DTSTART;TZID=America/Denver:20220605T144500
DTEND;TZID=America/Denver:20220605T154500
DTSTAMP:20260425T164350
CREATED:20220527T155606Z
LAST-MODIFIED:20220531T181149Z
UID:3589-1654440300-1654443900@coloradomusicinstitute.com
SUMMARY:Text Driven Songwriting
DESCRIPTION:Led by Cortez Daniel\, open to all instruments!\n\nIf you are a current student\, this class is available for free. If you are not a current student\, the fee is $40. Please feel free to call 303-347-9447 if you have any questions or need help registering for the class.
URL:https://coloradomusicinstitute.com/event/text-driven-songwriting/
LOCATION:Colorado Music Institute
ORGANIZER;CN="Colorado Music Institute":MAILTO:cmistaff@coloradomusicinstitute.com
END:VEVENT
BEGIN:VEVENT
DTSTART;TZID=America/Denver:20220601T140000
DTEND;TZID=America/Denver:20220601T150000
DTSTAMP:20260425T164350
CREATED:20220502T234101Z
LAST-MODIFIED:20220502T234101Z
UID:3570-1654092000-1654095600@coloradomusicinstitute.com
SUMMARY:Improvisation and Song Writing
DESCRIPTION:In this class we will learn how to use a scale to understand which chords and notes are available to use for improvisation and song writing. We will write our own chord progressions and lead melodies. This class will be led by Jeffrey Plettinck.\n\n\nIf you are a current student\, this class is available for free. If you are not a current student\, the fee is $40. Please feel free to call 303-347-9447 if you have any questions or need help registering for the class.
URL:https://coloradomusicinstitute.com/event/improvisation-and-song-writing-2/
LOCATION:Colorado Music Institute
ORGANIZER;CN="Colorado Music Institute":MAILTO:cmistaff@coloradomusicinstitute.com
END:VEVENT
BEGIN:VEVENT
DTSTART;TZID=America/Denver:20220531T191500
DTEND;TZID=America/Denver:20220531T201500
DTSTAMP:20260425T164350
CREATED:20220404T190549Z
LAST-MODIFIED:20220404T190549Z
UID:3532-1654024500-1654028100@coloradomusicinstitute.com
SUMMARY:Drum Rudiments and Speed
DESCRIPTION:Bill will lead students through drum rudiments and challenge them to push their speed to play faster and faster!\n\n\nIf you are a current student\, this class is available for free. If you are not a current student\, the fee is $40. Please feel free to call 303-347-9447 if you have any questions or need help registering for the class.
URL:https://coloradomusicinstitute.com/event/drum-rudiments-and-speed/
LOCATION:Colorado Music Institute
ORGANIZER;CN="Colorado Music Institute":MAILTO:cmistaff@coloradomusicinstitute.com
END:VEVENT
BEGIN:VEVENT
DTSTART;TZID=America/Denver:20220528T160000
DTEND;TZID=America/Denver:20220528T170000
DTSTAMP:20260425T164350
CREATED:20220506T175515Z
LAST-MODIFIED:20220506T175515Z
UID:3585-1653753600-1653757200@coloradomusicinstitute.com
SUMMARY:Beginner Piano
DESCRIPTION:This class is open to all beginner piano students! Led by Jacob Lee.\n\n\nIf you are a current student\, this class is available for free. If you are not a current student\, the fee is $40.Please feel free to call 303-347-9447 if you have any questions or need help registering for the class.
URL:https://coloradomusicinstitute.com/event/beginner-piano-5/
LOCATION:Colorado Music Institute
ORGANIZER;CN="Colorado Music Institute":MAILTO:cmistaff@coloradomusicinstitute.com
END:VEVENT
BEGIN:VEVENT
DTSTART;TZID=America/Denver:20220527T153000
DTEND;TZID=America/Denver:20220527T163000
DTSTAMP:20260425T164350
CREATED:20220412T194354Z
LAST-MODIFIED:20220412T194354Z
UID:3554-1653665400-1653669000@coloradomusicinstitute.com
SUMMARY:Sight Reading Techniques and Key Signature Review
DESCRIPTION:This class will be especially helpful for pianists\, but it is open to students of all instruments! Led by Don Satterfield.\n\nIf you are a current student\, this class is available for free. If you are not a current student\, the fee is $40. Please feel free to call 303-347-9447 if you have any questions or need help registering for the class.
URL:https://coloradomusicinstitute.com/event/sight-reading-techniques-and-key-signature-review-2/
LOCATION:Colorado Music Institute
ORGANIZER;CN="Colorado Music Institute":MAILTO:cmistaff@coloradomusicinstitute.com
END:VEVENT
BEGIN:VEVENT
DTSTART;TZID=America/Denver:20220523T181500
DTEND;TZID=America/Denver:20220523T191500
DTSTAMP:20260425T164350
CREATED:20220427T194425Z
LAST-MODIFIED:20220427T194425Z
UID:3560-1653329700-1653333300@coloradomusicinstitute.com
SUMMARY:Suzuki Group Class (strings)
DESCRIPTION:This class is open to Violin\, Viola and Cello Students working on pre-twinkle repertoire such as the Bunny Ballads and also Book 1 Suzuki Students. We will play games\, work on bowholds\, and play and listen to Suzuki repertoire.\n\nIf you are a current student\, this class is available for free. If you are not a current student\, the fee is $40. Please feel free to call 303-347-9447 if you have any questions or need help registering for the class.
URL:https://coloradomusicinstitute.com/event/suzuki-group-class-strings/
LOCATION:Colorado Music Institute
ORGANIZER;CN="Colorado Music Institute":MAILTO:cmistaff@coloradomusicinstitute.com
END:VEVENT
BEGIN:VEVENT
DTSTART;TZID=America/Denver:20220522T110000
DTEND;TZID=America/Denver:20220522T120000
DTSTAMP:20260425T164350
CREATED:20220502T233923Z
LAST-MODIFIED:20220502T233923Z
UID:3568-1653217200-1653220800@coloradomusicinstitute.com
SUMMARY:Beginner Piano
DESCRIPTION:Any students ages 7 and up who are new to piano or in the beginning level are welcome! Led by Michelle O’Brien.\n\n\n\nIf you are a current student\, this class is available for free. If you are not a current student\, the fee is $40. Please feel free to call 303-347-9447 if you have any questions or need help registering for the class.
URL:https://coloradomusicinstitute.com/event/beginner-piano-2/
LOCATION:Colorado Music Institute
ORGANIZER;CN="Colorado Music Institute":MAILTO:cmistaff@coloradomusicinstitute.com
END:VEVENT
BEGIN:VEVENT
DTSTART;TZID=America/Denver:20220521T170000
DTEND;TZID=America/Denver:20220521T180000
DTSTAMP:20260425T164350
CREATED:20220404T190415Z
LAST-MODIFIED:20220404T190415Z
UID:3530-1653152400-1653156000@coloradomusicinstitute.com
SUMMARY:Performance Class
DESCRIPTION:In this class you will explore different ways to calm your nerves and center yourself to give your best performance. You will have a chance to perform individually or in a group.\n\n\nAlicia Carol who has a Masters in Music and Bachelors in Vocal Performance will be teaching this class. She has been performing for over 25 years in Musicals. Bands and Solo venues. She plays the piano\, guitar and ukulele.\n\nIf you are a current student\, this class is available for free. If you are not a current student\, the fee is $40. Please feel free to call 303-347-9447 if you have any questions or need help registering for the class.\n\nMinimum of 3 for class to be held. If less than 3 students by 8pm the night before the class\, then the class may be cancelled.
URL:https://coloradomusicinstitute.com/event/performance-class-14/
LOCATION:Colorado Music Institute
ORGANIZER;CN="Colorado Music Institute":MAILTO:cmistaff@coloradomusicinstitute.com
END:VEVENT
BEGIN:VEVENT
DTSTART;TZID=America/Denver:20220521T150000
DTEND;TZID=America/Denver:20220521T160000
DTSTAMP:20260425T164350
CREATED:20220502T233819Z
LAST-MODIFIED:20220502T233819Z
UID:3566-1653145200-1653148800@coloradomusicinstitute.com
SUMMARY:Beginner Piano
DESCRIPTION:Any students who are new to piano or in the beginning level are welcome! Led by Mary Worley.\n\n\nIf you are a current student\, this class is available for free. If you are not a current student\, the fee is $40. Please feel free to call 303-347-9447 if you have any questions or need help registering for the class.
URL:https://coloradomusicinstitute.com/event/beginner-piano/
LOCATION:Colorado Music Institute
ORGANIZER;CN="Colorado Music Institute":MAILTO:cmistaff@coloradomusicinstitute.com
END:VEVENT
BEGIN:VEVENT
DTSTART;TZID=America/Denver:20220521T120000
DTEND;TZID=America/Denver:20220521T130000
DTSTAMP:20260425T164350
CREATED:20220502T233637Z
LAST-MODIFIED:20220502T233637Z
UID:3564-1653134400-1653138000@coloradomusicinstitute.com
SUMMARY:Reed Adjustment and Maintenance
DESCRIPTION:It all starts with the reed. We will look at some things you can do to make your reeds play easier with a better sound. If you can\, bring a 4×4 piece of 220 grit wet/dry sandpaper.\n\n\nIf you are a current student\, this class is available for free. If you are not a current student\, the fee is $40.Please feel free to call 303-347-9447 if you have any questions or need help registering for the class.
URL:https://coloradomusicinstitute.com/event/reed-adjustment-and-maintenance-2/
LOCATION:Colorado Music Institute
ORGANIZER;CN="Colorado Music Institute":MAILTO:cmistaff@coloradomusicinstitute.com
END:VEVENT
BEGIN:VEVENT
DTSTART;TZID=America/Denver:20220520T170000
DTEND;TZID=America/Denver:20220520T180000
DTSTAMP:20260425T164350
CREATED:20220228T212651Z
LAST-MODIFIED:20220427T013521Z
UID:3487-1653066000-1653069600@coloradomusicinstitute.com
SUMMARY:Violin/Viola Bowing Styles and Technique
DESCRIPTION:Erin Napier will lead violin and viola students on bowing styles and techniques. Open to all violin and viola students!\n\nIf you are a current student\, this class is available for free. If you are not a current student\, the fee is $40. Please feel free to call 303-347-9447 if you have any questions or need help registering for the class.
URL:https://coloradomusicinstitute.com/event/violin-viola-bowing-styles-and-technique/
LOCATION:Colorado Music Institute
ORGANIZER;CN="Colorado Music Institute":MAILTO:cmistaff@coloradomusicinstitute.com
END:VEVENT
BEGIN:VEVENT
DTSTART;TZID=America/Denver:20220514T170000
DTEND;TZID=America/Denver:20220514T180000
DTSTAMP:20260425T164350
CREATED:20220506T175418Z
LAST-MODIFIED:20220506T175418Z
UID:3583-1652547600-1652551200@coloradomusicinstitute.com
SUMMARY:Intermediate/Advanced Guitar
DESCRIPTION:This class is open to all intermediate and advanced guitar students. Led by Jacob Lee.\n\nIf you are a current student\, this class is available for free. If you are not a current student\, the fee is $40.Please feel free to call 303-347-9447 if you have any questions or need help registering for the class.
URL:https://coloradomusicinstitute.com/event/intermediate-advanced-guitar/
LOCATION:Colorado Music Institute
ORGANIZER;CN="Colorado Music Institute":MAILTO:cmistaff@coloradomusicinstitute.com
END:VEVENT
BEGIN:VEVENT
DTSTART;TZID=America/Denver:20220514T160000
DTEND;TZID=America/Denver:20220514T170000
DTSTAMP:20260425T164350
CREATED:20220506T175329Z
LAST-MODIFIED:20220506T175329Z
UID:3581-1652544000-1652547600@coloradomusicinstitute.com
SUMMARY:Beginner Guitar
DESCRIPTION:This class is open to all beginning guitar students! Led by Jacob Lee.\n\nIf you are a current student\, this class is available for free. If you are not a current student\, the fee is $40.Please feel free to call 303-347-9447 if you have any questions or need help registering for the class.
URL:https://coloradomusicinstitute.com/event/beginner-guitar/
LOCATION:Colorado Music Institute
ORGANIZER;CN="Colorado Music Institute":MAILTO:cmistaff@coloradomusicinstitute.com
END:VEVENT
BEGIN:VEVENT
DTSTART;TZID=America/Denver:20220514T120000
DTEND;TZID=America/Denver:20220514T130000
DTSTAMP:20260425T164350
CREATED:20220502T233458Z
LAST-MODIFIED:20220502T233458Z
UID:3562-1652529600-1652533200@coloradomusicinstitute.com
SUMMARY:Reed Adjustment and Maintenance
DESCRIPTION:It all starts with the reed. We will look at some things you can do to make your reeds play easier with a better sound. If you can\, bring a 4×4 piece of 220 grit wet/dry sandpaper.\n\n\nIf you are a current student\, this class is available for free. If you are not a current student\, the fee is $40.Please feel free to call 303-347-9447 if you have any questions or need help registering for the class.
URL:https://coloradomusicinstitute.com/event/reed-adjustment-and-maintenance/
LOCATION:Colorado Music Institute
ORGANIZER;CN="Colorado Music Institute":MAILTO:cmistaff@coloradomusicinstitute.com
END:VEVENT
BEGIN:VEVENT
DTSTART;TZID=America/Denver:20220507T170000
DTEND;TZID=America/Denver:20220507T180000
DTSTAMP:20260425T164350
CREATED:20220404T190339Z
LAST-MODIFIED:20220404T190339Z
UID:3528-1651942800-1651946400@coloradomusicinstitute.com
SUMMARY:Performance Class
DESCRIPTION:In this class you will explore different ways to calm your nerves and center yourself to give your best performance. You will have a chance to perform individually or in a group.\n\n\nAlicia Carol who has a Masters in Music and Bachelors in Vocal Performance will be teaching this class. She has been performing for over 25 years in Musicals. Bands and Solo venues. She plays the piano\, guitar and ukulele.\n\nIf you are a current student\, this class is available for free. If you are not a current student\, the fee is $40. Please feel free to call 303-347-9447 if you have any questions or need help registering for the class.\n\nMinimum of 3 for class to be held. If less than 3 students by 8pm the night before the class\, then the class may be cancelled.
URL:https://coloradomusicinstitute.com/event/performance-class-13/
LOCATION:Colorado Music Institute
ORGANIZER;CN="Colorado Music Institute":MAILTO:cmistaff@coloradomusicinstitute.com
END:VEVENT
BEGIN:VEVENT
DTSTART;TZID=America/Denver:20220430T153000
DTEND;TZID=America/Denver:20220430T163000
DTSTAMP:20260425T164350
CREATED:20220304T201910Z
LAST-MODIFIED:20220304T201910Z
UID:3492-1651332600-1651336200@coloradomusicinstitute.com
SUMMARY:Afro-Cuban Rhythms
DESCRIPTION:If you are a current student\, this class is available for free. If you are not a current student\, the fee is $40. Please feel free to call 303-347-9447 if you have any questions or need help registering for the class.
URL:https://coloradomusicinstitute.com/event/afro-cuban-rhythms/
LOCATION:Colorado Music Institute
ORGANIZER;CN="Colorado Music Institute":MAILTO:cmistaff@coloradomusicinstitute.com
END:VEVENT
BEGIN:VEVENT
DTSTART;TZID=America/Denver:20220430T100000
DTEND;TZID=America/Denver:20220430T110000
DTSTAMP:20260425T164350
CREATED:20220419T203857Z
LAST-MODIFIED:20220419T203857Z
UID:3556-1651312800-1651316400@coloradomusicinstitute.com
SUMMARY:Playing with Others - Folk and Blues
DESCRIPTION:Learn how to play simple folk and blues songs with other musicians! Requires basic knowledge of open chords and/or the ability to play simple melodies.\n\nIf you are a current student\, this class is available for free. If you are not a current student\, the fee is $40. Please feel free to call 303-347-9447 if you have any questions or need help registering for the class.
URL:https://coloradomusicinstitute.com/event/playing-with-others-folk-and-blues/
LOCATION:Colorado Music Institute
ORGANIZER;CN="Colorado Music Institute":MAILTO:cmistaff@coloradomusicinstitute.com
END:VEVENT
BEGIN:VEVENT
DTSTART;TZID=America/Denver:20220426T191500
DTEND;TZID=America/Denver:20220426T201500
DTSTAMP:20260425T164350
CREATED:20220228T212552Z
LAST-MODIFIED:20220321T190234Z
UID:3485-1651000500-1651004100@coloradomusicinstitute.com
SUMMARY:Auxiliary Percussion
DESCRIPTION:For this Master Class\, Bill Travis will be teaching auxiliary percussion instruments like Shakers\, Vibraslap\, Maracas\, Vibratones\, Cabasa\, Rain sticks\, Triangle. Come on in to learn some of these techniques.\n\nIf you are a current student\, this class is available for free. If you are not a current student\, the fee is $40. Please feel free to call 303-347-9447 if you have any questions or need help registering for the class.
URL:https://coloradomusicinstitute.com/event/auxiliary-percussion-3/
LOCATION:Colorado Music Institute
ORGANIZER;CN="Colorado Music Institute":MAILTO:cmistaff@coloradomusicinstitute.com
END:VEVENT
BEGIN:VEVENT
DTSTART;TZID=America/Denver:20220424T110000
DTEND;TZID=America/Denver:20220424T120000
DTSTAMP:20260425T164350
CREATED:20220201T161039Z
LAST-MODIFIED:20220201T161039Z
UID:3443-1650798000-1650801600@coloradomusicinstitute.com
SUMMARY:Sturm und Drang: Improvising with 5 Notes
DESCRIPTION:Students of all ages\, experiences\, and instruments are welcome! This class will become a great introduction to improvisation for all students!\n\nIf you are a current student\, this class is available for free. If you are not a current student\, the fee is $40. Please feel free to call 303-347-9447 if you have any questions or need help registering for the class.\n\nMinimum of 3 for class to be held. If less than 3 students by 8pm the night before the class\, then the class may be cancelled.
URL:https://coloradomusicinstitute.com/event/sturm-und-drang-improvising-with-5-notes-2/
LOCATION:Colorado Music Institute
ORGANIZER;CN="Colorado Music Institute":MAILTO:cmistaff@coloradomusicinstitute.com
END:VEVENT
BEGIN:VEVENT
DTSTART;TZID=America/Denver:20220423T170000
DTEND;TZID=America/Denver:20220423T180000
DTSTAMP:20260425T164350
CREATED:20220310T211931Z
LAST-MODIFIED:20220310T211931Z
UID:3504-1650733200-1650736800@coloradomusicinstitute.com
SUMMARY:Performance Class
DESCRIPTION:In this class you will explore different ways to calm your nerves and center yourself to give your best performance. You will have a chance to perform individually or in a group.\n\n\nAlicia Carol who has a Masters in Music and Bachelors in Vocal Performance will be teaching this class. She has been performing for over 25 years in Musicals. Bands and Solo venues. She plays the piano\, guitar and ukulele.\n\nIf you are a current student\, this class is available for free. If you are not a current student\, the fee is $40. Please feel free to call 303-347-9447 if you have any questions or need help registering for the class.\n\nMinimum of 3 for class to be held. If less than 3 students by 8pm the night before the class\, then the class may be cancelled.
URL:https://coloradomusicinstitute.com/event/performance-class-12/
LOCATION:Colorado Music Institute
ORGANIZER;CN="Colorado Music Institute":MAILTO:cmistaff@coloradomusicinstitute.com
END:VEVENT
BEGIN:VEVENT
DTSTART;TZID=America/Denver:20220422T153000
DTEND;TZID=America/Denver:20220422T163000
DTSTAMP:20260425T164350
CREATED:20220412T194307Z
LAST-MODIFIED:20220412T194307Z
UID:3552-1650641400-1650645000@coloradomusicinstitute.com
SUMMARY:Sight Reading Techniques and Key Signature Review
DESCRIPTION:This class will be especially helpful for pianists\, but it is open to students of all instruments! Led by Don Satterfield.\n\nIf you are a current student\, this class is available for free. If you are not a current student\, the fee is $40. Please feel free to call 303-347-9447 if you have any questions or need help registering for the class.
URL:https://coloradomusicinstitute.com/event/sight-reading-techniques-and-key-signature-review/
LOCATION:Colorado Music Institute
ORGANIZER;CN="Colorado Music Institute":MAILTO:cmistaff@coloradomusicinstitute.com
END:VEVENT
BEGIN:VEVENT
DTSTART;TZID=America/Denver:20220416T120000
DTEND;TZID=America/Denver:20220416T130000
DTSTAMP:20260425T164350
CREATED:20220304T202628Z
LAST-MODIFIED:20220304T202628Z
UID:3496-1650110400-1650114000@coloradomusicinstitute.com
SUMMARY:Jazz Techniques
DESCRIPTION:Harry will work on jazz techniques with instruments who are “single line\,” or only play one line of music at a time. Ages 13+!\n\nIf you are a current student\, this class is available for free. If you are not a current student\, the fee is $40. Please feel free to call 303-347-9447 if you have any questions or need help registering for the class.
URL:https://coloradomusicinstitute.com/event/jazz-techniques/
LOCATION:Colorado Music Institute
ORGANIZER;CN="Colorado Music Institute":MAILTO:cmistaff@coloradomusicinstitute.com
END:VEVENT
BEGIN:VEVENT
DTSTART;TZID=America/Denver:20220409T120000
DTEND;TZID=America/Denver:20220409T130000
DTSTAMP:20260425T164350
CREATED:20220304T202732Z
LAST-MODIFIED:20220304T202732Z
UID:3498-1649505600-1649509200@coloradomusicinstitute.com
SUMMARY:Jazz Techniques
DESCRIPTION:Harry will work on jazz techniques with instruments who are “single line\,” or only play one line of music at a time. Ages 13+!\n\nIf you are a current student\, this class is available for free. If you are not a current student\, the fee is $40. Please feel free to call 303-347-9447 if you have any questions or need help registering for the class.
URL:https://coloradomusicinstitute.com/event/jazz-techniques-2/
LOCATION:Colorado Music Institute
ORGANIZER;CN="Colorado Music Institute":MAILTO:cmistaff@coloradomusicinstitute.com
END:VEVENT
BEGIN:VEVENT
DTSTART;TZID=America/Denver:20220408T153000
DTEND;TZID=America/Denver:20220408T163000
DTSTAMP:20260425T164350
CREATED:20220228T212452Z
LAST-MODIFIED:20220228T212452Z
UID:3483-1649431800-1649435400@coloradomusicinstitute.com
SUMMARY:Intro to Alexander Technique/Body Mapping for String Players
DESCRIPTION:This class will help string players of all ages get more in tune with what their bodies do while they are playing.\n\nIf you are a current student\, this class is available for free. If you are not a current student\, the fee is $40. Please feel free to call 303-347-9447 if you have any questions or need help registering for the class.
URL:https://coloradomusicinstitute.com/event/intro-to-alexander-technique-body-mapping-for-string-players/
LOCATION:Colorado Music Institute
ORGANIZER;CN="Colorado Music Institute":MAILTO:cmistaff@coloradomusicinstitute.com
END:VEVENT
BEGIN:VEVENT
DTSTART;TZID=America/Denver:20220402T170000
DTEND;TZID=America/Denver:20220402T180000
DTSTAMP:20260425T164350
CREATED:20220201T160913Z
LAST-MODIFIED:20220310T211826Z
UID:3441-1648918800-1648922400@coloradomusicinstitute.com
SUMMARY:Performance Class
DESCRIPTION:In this class you will explore different ways to calm your nerves and center yourself to give your best performance. You will have a chance to perform individually or in a group.\n\n\nAlicia Carol who has a Masters in Music and Bachelors in Vocal Performance will be teaching this class. She has been performing for over 25 years in Musicals. Bands and Solo venues. She plays the piano\, guitar and ukulele.\n\nIf you are a current student\, this class is available for free. If you are not a current student\, the fee is $40. Please feel free to call 303-347-9447 if you have any questions or need help registering for the class.\n\nMinimum of 3 for class to be held. If less than 3 students by 8pm the night before the class\, then the class may be cancelled.
URL:https://coloradomusicinstitute.com/event/performance-class-11/
LOCATION:Colorado Music Institute
ORGANIZER;CN="Colorado Music Institute":MAILTO:cmistaff@coloradomusicinstitute.com
END:VEVENT
BEGIN:VEVENT
DTSTART;TZID=America/Denver:20220401T190000
DTEND;TZID=America/Denver:20220401T200000
DTSTAMP:20260425T164350
CREATED:20220301T203435Z
LAST-MODIFIED:20220301T203435Z
UID:3490-1648839600-1648843200@coloradomusicinstitute.com
SUMMARY:Brass Recital and Performance Class
DESCRIPTION:This class will include a short recital of brass trio music followed by an open floor for any questions. Student volunteers will have an opportunity to perform a song of their own and receive feedback from THREE musicians! Hope to see you there!\n\n\nThis is open to all students and families\, not just brass students! Bring anyone who would enjoy a concert of live music with some amazing performers. This will also be streamed via Zoom if you would like to join from home.\n\n\n\n\n\nIf you are a current student\, this class is available for free. If you are not a current student\, the fee is $40. Please feel free to call 303-347-9447 if you have any questions or need help registering for the class.
URL:https://coloradomusicinstitute.com/event/brass-recital-and-performance-class/
LOCATION:Colorado Music Institute
ORGANIZER;CN="Colorado Music Institute":MAILTO:cmistaff@coloradomusicinstitute.com
END:VEVENT
END:VCALENDAR